BEGIN:VCALENDAR
VERSION:2.0
PRODID:-//ChamberMaster//Event Calendar 2.0//EN
METHOD:PUBLISH
X-PUBLISHED-TTL:P3D
REFRESH-INTERVAL:P3D
CALSCALE:GREGORIAN
BEGIN:VEVENT
DTSTART:20150605T163000Z
DTEND:20150605T183000Z
X-MICROSOFT-CDO-ALLDAYEVENT:FALSE
SUMMARY:Annual Meeting 2015 - 133rd
DESCRIPTION:This event is SOLD OUT.\n\n\n\nThe Fort Worth Chamber of Commerce's 133rd Annual Meeting\, presented by The Dannon Company will be held from 11:45 a.m. to 1:30 p.m. at The Worthington Renaissance Fort Worth Hotel Grand Ballroom on Friday\, June 5\, 2015.\n\n\n\nAnn Compton\, Legendary ABC News' White House Correspondent (1973-2014)\, will be this year's keynote speaker. Ann will take us through a journey through recent history\; revealing the lives and experience of the seven presidents she's covered through anecdotes\, documents and off-the-record conversations. She will share the poignant and candid moments that historians -  and most reporters - don't get to see. Entertainment Sponsor is XTO Energy.\n\n\n\nTarrant County College District will be the recipient of the Spirit of Enterprise Award.  This award is given annually to honor a local organization that has demonstrated a true commitment to business growth and community development.\n\n\n\nMember price $120 in open seating. \n\n\n\nEach table of 10 is a sponsorship. Contact Jennifer Vuduris at jvuduris@fortworthchamber.com or 817-338-3335 to become a sponsor. After the program deadline of Noon\, May 26\, new sponsor names will not be listed in the program. Click here for sponsor agreement.
X-ALT-DESC;FMTTYPE=text/html:<span style="font-size: 14px\;"><span style="font-family: arial\;"><span style="color: rgb(255\, 0\, 0)\;">This event is SOLD OUT.</span><br />\n<br />\nThe Fort Worth Chamber of Commerce&#39\;s 133rd Annual Meeting\, <em><span style="font-style: normal\;">presented by</span></em> <a href="http://www.dannon.com/"><strong><span style="font-weight: normal\; text-decoration: none\;">The</span></strong> <span style="text-decoration: none\;">Dannon</span> <strong><span style="font-weight: normal\; text-decoration: none\;">Company</span></strong></a> will be held from <strong>11:45 a.m. to 1:30&nbsp\;p.m. at The Worthington Renaissance Fort Worth Hotel Grand Ballroom on Friday\, June 5\, 2015.</strong><br />\n<br />\n<a href="http://www.washingtonspeakers.com/speakers/speaker.cfm?SpeakerID=92"><strong><span style="text-decoration: none\;">Ann Compton</span></strong></a>\, Legendary ABC News&#39\; White House Correspondent (1973-2014)\, will be this year&#39\;s <strong>keynote speaker</strong>.&nbsp\;Ann will take us through a journey through recent history\; revealing the lives and experience of the seven presidents she&#39\;s covered through anecdotes\, documents and off-the-record conversations.&nbsp\;She will share the poignant and candid moments that historians -&nbsp\; and most reporters - don&#39\;t get to see. <strong>Entertainment Sponsor is</strong> <a href="http://www.xtoenergy.com/index.html"><strong><span style="text-decoration: none\;">XTO Energy</span></strong></a><strong>.</strong><br />\n<br />\n<strong><a href="http://www.tccd.edu/About_TCC/index.html"><span style="text-decoration: none\;">Tarrant County College</span></a><span style="color: black\;"><a href="http://www.tccd.edu/About_TCC/index.html"> District</a></span></strong><span style="color: black\;"> will be the recipient of the <strong>Spirit of Enterprise Award</strong>.&nbsp\; This award is given annually to honor a local organization that has demonstrated a true commitment to business growth and community development.</span></span></span><br />\n<br />\n<span style="font-size: 14px\;"><span style="font-family: arial\;"><strong>Member price $120 in open seating. </strong></span></span><br />\n<br />\n<strong>Each table of 10 is a sponsorship. Contact Jennifer Vuduris at <a href="http://jvuduris@fortworthchamber.com">jvuduris@fortworthchamber.com</a> or 817-338-3335 to become a sponsor.</strong> After the program deadline of Noon\, May 26\, new sponsor names will not be listed in the program.<strong> Click<a href="http://www.fortworthchamber.com/am-site/media/annual-meeting-sponsor-form-2015.pdf"> here</a> for sponsor agreement.</strong><br />\n&nbsp\;
LOCATION:The Worthington Renaissance Fort Worth Hotel Grand Ballroom 200 Main Street Fort Worth\, 76102
UID:e.1802.2330
SEQUENCE:3
DTSTAMP:20260424T095331Z
URL:http://business.fortworthchamber.com/events/details/annual-meeting-2015-133rd-2330
END:VEVENT

END:VCALENDAR
