BEGIN:VCALENDAR
VERSION:2.0
PRODID:-//ChamberMaster//Event Calendar 2.0//EN
METHOD:PUBLISH
X-PUBLISHED-TTL:P3D
REFRESH-INTERVAL:P3D
CALSCALE:GREGORIAN
BEGIN:VEVENT
DTSTART:20260627T200000Z
DTEND:20260628T000000Z
X-MICROSOFT-CDO-ALLDAYEVENT:FALSE
SUMMARY:Bridal Sip & Shop
DESCRIPTION:Come to Diva Diamonds for free champagne and a chance to shop various bridal vendors as you plan for your big day! \n\nDiva Diamonds & Jewels\n\n6102 Camp Bowie Blvd\n\nFort Worth\, TX 76116\n\n\n\n682-380-9344
X-ALT-DESC;FMTTYPE=text/html:<p>Come to Diva Diamonds for free champagne and a chance to shop various bridal vendors as you plan for your big day!&nbsp\;</p>\n\n<p>Diva Diamonds &amp\; Jewels<br />\n6102 Camp Bowie Blvd<br />\nFort Worth\, TX 76116<br />\n<br />\n682-380-9344</p>\n\n<p>&nbsp\;</p>\n
LOCATION:689-360-9344 Diva Diamonds & Jewels 6102 Camp Bowie Blvd Fort Worth\, TX
UID:e.1802.23689
SEQUENCE:3
DTSTAMP:20260421T110325Z
URL:http://business.fortworthchamber.com/events/details/bridal-sip-shop-23689
END:VEVENT

END:VCALENDAR
