BEGIN:VCALENDAR
VERSION:2.0
PRODID:-//ChamberMaster//Event Calendar 2.0//EN
METHOD:PUBLISH
X-PUBLISHED-TTL:P3D
REFRESH-INTERVAL:P3D
CALSCALE:GREGORIAN
BEGIN:VEVENT
DTSTART;VALUE=DATE:20240215
DTEND;VALUE=DATE:20240219
TRANSP:TRANSPARENT
X-MICROSOFT-CDO-ALLDAYEVENT:TRUE
SUMMARY:Cirque Du Soleil: Crystal
DESCRIPTION:Thursday\, February 15th Doors 6:00 pm / Show 7:00pm\n	Friday\, February 16th Doors 6:00 pm / Show 7:00pm\n	Saturday\, February 17th Doors 2:30 pm / Show 3:30pm\n	Saturday\, February 17th Doors 6:30 pm / Show 7:30pm\n	Sunday\, February 18th Doors 12:00 pm / Show 1:00pm\n	Sunday\, February 18th Doors 4:00 pm / Show 5:00pm
X-ALT-DESC;FMTTYPE=text/html:<ul>\n	<li>Thursday\, February 15<span style="font-size:13.5px">th</span>&nbsp\;Doors 6:00 pm / Show 7:00pm</li>\n	<li>Friday\, February 16<span style="font-size:13.5px">th</span>&nbsp\;Doors 6:00 pm / Show 7:00pm</li>\n	<li>Saturday\, February 17<span style="font-size:13.5px">th</span>&nbsp\;Doors 2:30 pm / Show 3:30pm</li>\n	<li>Saturday\, February 17<span style="font-size:13.5px">th</span>&nbsp\;Doors 6:30 pm / Show 7:30pm</li>\n	<li>Sunday\, February 18<span style="font-size:13.5px">th</span>&nbsp\;Doors 12:00 pm / Show 1:00pm</li>\n	<li>Sunday\, February 18<span style="font-size:13.5px">th</span>&nbsp\;Doors 4:00 pm / Show 5:00pm</li>\n</ul>\n
LOCATION:Dickies Arena\, Fort Worth\, Tx
UID:e.1802.18853
SEQUENCE:3
DTSTAMP:20260425T145437Z
URL:http://business.fortworthchamber.com/events/details/cirque-du-soleil-crystal-18853
END:VEVENT

END:VCALENDAR
