BEGIN:VCALENDAR
VERSION:2.0
PRODID:-//ChamberMaster//Event Calendar 2.0//EN
METHOD:PUBLISH
X-PUBLISHED-TTL:P3D
REFRESH-INTERVAL:P3D
CALSCALE:GREGORIAN
BEGIN:VEVENT
DTSTART:20151114T180000Z
DTEND:20151114T220000Z
X-MICROSOFT-CDO-ALLDAYEVENT:FALSE
SUMMARY:"Don't be Trashy!" River Cleanup Day
DESCRIPTION:Join members of Vision FW for an exclusive river cleanup day on Saturday\, November 14th!  We'll be cleaning up the Trinity River along E. 4th Street (east of downtown FW) beginning at noon for one hour and afterwards\, walk over to Martin House Brewery for networking and fun!\n\n\n\nMartin House will be opening up early for our group only and by participating\, you will receive a free one-of-a-kind event Martin House Beer!  We will also have great games and prizes for all who participate. \n\n\n\nJoin us for a beautiful Fall day of cleaning up our river and a great time with friends!\n\n\n\nRegister soon and bring your family and friends!
X-ALT-DESC;FMTTYPE=text/html:Join members of Vision FW for an exclusive river cleanup day on Saturday\, November 14th!&nbsp\; We&#39\;ll be cleaning up the Trinity River along E. 4th Street (east of downtown FW) beginning at noon for one hour and afterwards\, walk over to Martin House Brewery for networking and fun!<br />\n<br />\nMartin House will be opening up early for our group only and by participating\, you will receive a free one-of-a-kind event Martin House Beer!&nbsp\; We will also have great games and prizes for all who participate.&nbsp\;<br />\n<br />\nJoin us for a beautiful Fall day of cleaning up our river and a great time with friends!<br />\n<br />\nRegister soon and bring your family and friends!
LOCATION:Martin House Brewery 220 S. Sylvania Ave. Fort Worth\, TX 76111
UID:e.1802.5414
SEQUENCE:3
DTSTAMP:20260422T220352Z
URL:http://business.fortworthchamber.com/events/details/don-t-be-trashy-river-cleanup-day-11-14-2015-5414
END:VEVENT

END:VCALENDAR
