BEGIN:VCALENDAR
VERSION:2.0
PRODID:-//ChamberMaster//Event Calendar 2.0//EN
METHOD:PUBLISH
X-PUBLISHED-TTL:P3D
REFRESH-INTERVAL:P3D
CALSCALE:GREGORIAN
BEGIN:VEVENT
DTSTART;VALUE=DATE:20260715
DTEND;VALUE=DATE:20260727
TRANSP:TRANSPARENT
X-MICROSOFT-CDO-ALLDAYEVENT:TRUE
SUMMARY:Hamilton
DESCRIPTION:Hamilton tells the revolutionary story of Founding Father Alexander Hamilton through a groundbreaking blend of hip-hop\, jazz\, R&B and Broadway. With book\, music and lyrics by Lin-Manuel Miranda\, this Tony- and Pulitzer Prize-winning phenomenon explores ambition\, legacy and the birth of a nation. Experience the cultural sensation that redefined musical theatre. Hamilton comes to Bass Hall July 15-26!
X-ALT-DESC;FMTTYPE=text/html:<em><span style="font-family:aptos\,sans-serif">Hamilton</span></em><span style="font-family:aptos\,sans-serif"> tells the revolutionary story of Founding Father Alexander Hamilton through a groundbreaking blend of hip-hop\, jazz\, R&amp\;B and Broadway. With book\, music and lyrics by Lin-Manuel Miranda\, this Tony- and Pulitzer Prize-winning phenomenon explores ambition\, legacy and the birth of a nation. Experience the cultural sensation that redefined musical theatre. <em>Hamilton</em> comes to Bass Hall July 15-26!</span>
LOCATION:Bass Performance Hall 525 Commerce Street Fort Worth\, TX 76102
UID:e.1802.22868
SEQUENCE:3
DTSTAMP:20260421T114628Z
URL:http://business.fortworthchamber.com/events/details/hamilton-22868
END:VEVENT

END:VCALENDAR
