BEGIN:VCALENDAR
VERSION:2.0
PRODID:-//ChamberMaster//Event Calendar 2.0//EN
METHOD:PUBLISH
X-PUBLISHED-TTL:P3D
REFRESH-INTERVAL:P3D
CALSCALE:GREGORIAN
BEGIN:VEVENT
DTSTART:20250217T200000Z
DTEND:20250218T000000Z
X-MICROSOFT-CDO-ALLDAYEVENT:FALSE
SUMMARY:Harlem Globetrotters 2025 World Tour
DESCRIPTION:The Harlem Globetrotters 2025 World Tour Presented by Jersey Mike's Subs are returning to Dickies Arena Monday\, February 17\, 2025!\n\nABOUT THE WORLD-FAMOUS HARLEM GLOBETROTTERS  / HERSCHEND ENTERTAINMENT STUDIOS The Harlem Globetrotters  are THE originators of basketball style\; captured by their dynamic athleticism\, unique skill and historical influence on the modern game of basketball. Since 1926\, the Globetrotters\, proud members of the Naismith Memorial Basketball Hall of Fame\, have used their legendary global tour to showcase their iconic brand of basketball to tens of millions in over 124 countries and territories across six continents.\n\nThey have expanded the brand by coming back to network television for the first time in 40 years with their Emmy nominated NBC series "Harlem Globetrotters: Play it Forward" which also airs on Telemundo as "Harlem Globetrotters: Ganando Con La Comunidad." Content partners include Hidden Pictures\, Atmosphere TV\, and Hearts Media Production Group\; consumer partnerships include\, Sprayground\, Undercrwn\, Macys\, Hybrid\; and additional partnerships include our official tour partner Jersey Mikes\, official ball partner\, Spalding\, Viral Nation\, Hoop Culture\, and Citi.\n\nCoined by the U.S. State Department in 1951 as Ambassadors of Goodwill\, the team leverages their moniker to drive its Corporate Social Responsibility (CSR) efforts around their strategic pillars of Health & Wellness\, Education\, and Community Empowerment. These efforts have yielded partnership with the likes of Microsoft\, U.S. State Department Sports Diplomacy\, The National Archives\, 'Great Assist' in partnership with Jersey Mike's Subs\, Campus Multimedia Court of Creativity\, and Comic Relief Red Nose Day.\n\nFor more information about the Harlem Globetrotters  and the Tour\, visit the Globetrotters' official website: www.harlemglobetrotters.com. The Harlem Globetrotters  is a subsidiary of Herschend\, the largest family-owned themed attractions company.
X-ALT-DESC;FMTTYPE=text/html:<h3><span style="font-size:16px"><strong>The Harlem Globetrotters 2025 World Tour Presented by Jersey Mike&rsquo\;s Subs are returning to Dickies Arena Monday\, February 17\, 2025!</strong></span></h3>\n\n<p>ABOUT THE WORLD-FAMOUS HARLEM GLOBETROTTERS&trade\; / HERSCHEND ENTERTAINMENT STUDIOS The Harlem Globetrotters&trade\; are THE originators of basketball style\; captured by their dynamic athleticism\, unique skill and historical influence on the modern game of basketball. Since 1926\, the Globetrotters\, proud members of the Naismith Memorial Basketball Hall of Fame\, have used their legendary global tour to showcase their iconic brand of basketball to tens of millions in over 124 countries and territories across six continents.</p>\n\n<p>They have expanded the brand by coming back to network television for the first time in 40 years with their Emmy nominated NBC series &ldquo\;Harlem Globetrotters: Play it Forward&rdquo\; which also airs on Telemundo as &ldquo\;Harlem Globetrotters: Ganando Con La Comunidad.&rdquo\; Content partners include Hidden Pictures\, Atmosphere TV\, and Hearts Media Production Group\; consumer partnerships include\, Sprayground\, Undercrwn\, Macys\, Hybrid\; and additional partnerships include our official tour partner Jersey Mikes\, official ball partner\, Spalding\, Viral Nation\, Hoop Culture\, and Citi.</p>\n\n<p>Coined by the U.S. State Department in 1951 as Ambassadors of Goodwill\, the team leverages their moniker to drive its Corporate Social Responsibility (CSR) efforts around their strategic pillars of Health &amp\; Wellness\, Education\, and Community Empowerment. These efforts have yielded partnership with the likes of Microsoft\, U.S. State Department Sports Diplomacy\, The National Archives\, &lsquo\;Great Assist&rsquo\; in partnership with Jersey Mike&rsquo\;s Subs\, Campus Multimedia Court of Creativity\, and Comic Relief Red Nose Day.</p>\n\n<p>For more information about the Harlem Globetrotters&trade\; and the Tour\, visit the Globetrotters&rsquo\; official website:&nbsp\;<a href="https://www.harlemglobetrotters.com/" style="box-sizing: inherit\; text-decoration-line: none\; color: rgb(0\, 123\, 255)\; background-color: transparent\; touch-action: manipulation\;">www.harlemglobetrotters.com</a>. The Harlem Globetrotters&trade\; is a subsidiary of Herschend\, the largest family-owned themed attractions company.</p>\n
LOCATION:Dickies Arena
UID:e.1802.19889
SEQUENCE:3
DTSTAMP:20260425T232752Z
URL:http://business.fortworthchamber.com/events/details/harlem-globetrotters-2025-world-tour-19889
END:VEVENT

END:VCALENDAR
