BEGIN:VCALENDAR
VERSION:2.0
PRODID:-//ChamberMaster//Event Calendar 2.0//EN
METHOD:PUBLISH
X-PUBLISHED-TTL:P3D
REFRESH-INTERVAL:P3D
CALSCALE:GREGORIAN
BEGIN:VEVENT
DTSTART:20151104T140000Z
DTEND:20151104T163000Z
X-MICROSOFT-CDO-ALLDAYEVENT:FALSE
SUMMARY:Job Links Excelerator at Main Event\, November 4\, 2015
DESCRIPTION:Job Links EXCELerator   November 4\, 2015\n\n\nJOB LINKS EXCELerator connects the business community with qualified job applicants. Job Links has a varied network of businesses with human resources representation from universities\, community colleges\, grants\, certification\, veteran and staffing programs. Job Links offers businesses and placement specialists resources and training information that assist in workforce placement.\n\n\n\nThe November 4\, 2015 Job Links Meeting is Hosted and Sponsored by: Main Event\n\nRegistration closes October 31\, 2015\n\nRegistration for Presenters: Click here to fill out the Job Provider Form\n\nRegistration for General Attendance: Click on the red box.
X-ALT-DESC;FMTTYPE=text/html:<span style="font-size:14px\;"><span style="font-family: arial\;"><strong>Job Links EXCELerator &ndash\; November 4\, 2015</strong></span></span>\n\n<div>\n<p align="left"><span style="font-size:14px\;"><span style="font-family: arial\;"><strong>JOB LINKS </strong><strong>EXCEL</strong>erator connects the business community with qualified job applicants. Job Links has a varied network of businesses with human resources representation from universities\, community colleges\, grants\, certification\, veteran and staffing programs. Job Links offers businesses and placement specialists resources and training information that assist in workforce placement.<br />\n<br />\n<strong><span style="font-weight: normal\;">The November 4\, 2015 Job Links Meeting is Hosted and Sponsored by: Main Event</span></strong><br />\n<strong><span style="font-weight: normal\;">Registration closes October 31\, 2015</span></strong><br />\n<strong><span style="font-weight: normal\;">Registration for Presenters:</span></strong> <a href="http://www.surveymonkey.com/s.aspx?sm=vIbcyQOG_2fV8G54QfBnTB9Q_3d_3d" target="_blank">Click here to fill out the Job Provider Form</a><br />\nRegistration for General Attendance: Click on the red box.</span></span></p>\n\n<p align="left">&nbsp\;</p>\n</div>\n
LOCATION:Main Event 4801 Citylake Blvd. E. Fort Worth\, Texas 76132
UID:e.1802.5378
SEQUENCE:3
DTSTAMP:20260422T220621Z
URL:http://business.fortworthchamber.com/events/details/job-links-excelerator-at-main-event-november-4-2015-11-04-2015-5378
END:VEVENT

END:VCALENDAR
