BEGIN:VCALENDAR
VERSION:2.0
PRODID:-//ChamberMaster//Event Calendar 2.0//EN
METHOD:PUBLISH
X-PUBLISHED-TTL:P3D
REFRESH-INTERVAL:P3D
CALSCALE:GREGORIAN
BEGIN:VEVENT
DTSTART:20150303T133000Z
DTEND:20150303T150000Z
X-MICROSOFT-CDO-ALLDAYEVENT:FALSE
SUMMARY:March "Table of 10" Mentoring Breakfast - SOLD OUT!
DESCRIPTION:SOLD OUT!\n\n\n\nOur "Table of 10" Mentoring events offer Vision FW members an opportunity to meet and enjoy a meal with Fort Worth's top leaders and business professionals.\n\n\n\nThese events will give you exclusive time and access to people whose time is at a premium\, in a setting that promotes open conversation.  Come ready with questions and excited to learn from Fort Worth's best social and community leadership.  The top leader will be revealed at the time of the event - it's a secret!\n\n\n\nThis exclusive setting is limited to only 10 attendees and registration is required to attend (cost covers the cost of the meal).  This event is limited to Vision FW members only.\n\n\n\nRegistration will open one month prior to the event.\n\n\n\nPhoto above is a "Table of 10" with Judge Glen Whitley (Tarrant County).
X-ALT-DESC;FMTTYPE=text/html:<span style="color:#FF0000\;">SOLD OUT!</span><br />\n<br />\nOur &quot\;Table of 10&quot\; Mentoring events offer Vision FW members an opportunity to meet and enjoy a meal with Fort Worth&#39\;s top leaders and business professionals.<br />\n<br />\nThese events will give you exclusive time and access to people whose time is at a premium\, in a setting that promotes open conversation.&nbsp\; Come ready with questions and excited to learn from Fort Worth&#39\;s best social and community leadership.&nbsp\; The top leader will be revealed at the time of the event - it&#39\;s a secret!<br />\n<br />\nThis exclusive setting is limited to only 10 attendees and registration is required to attend (cost covers the cost of the meal).&nbsp\; This event is limited to Vision FW members only.<br />\n<br />\n<u>Registration will open one month prior to the event.</u><br />\n<br />\nPhoto above is a &quot\;Table of 10&quot\; with Judge Glen Whitley (Tarrant County).
LOCATION:City Club of Fort Worth Director's Room 301 Commerce St. Suite 400 Fort Worth\, TX 76102 817-878-4000
UID:e.1802.2442
SEQUENCE:3
DTSTAMP:20260421T083704Z
URL:http://business.fortworthchamber.com/events/details/march-table-of-10-mentoring-breakfast-sold-out-03-03-2015-2442
END:VEVENT

END:VCALENDAR
