BEGIN:VCALENDAR
VERSION:2.0
PRODID:-//ChamberMaster//Event Calendar 2.0//EN
METHOD:PUBLISH
X-PUBLISHED-TTL:P3D
REFRESH-INTERVAL:P3D
CALSCALE:GREGORIAN
BEGIN:VEVENT
DTSTART:20160114T210000Z
DTEND:20160114T230000Z
X-MICROSOFT-CDO-ALLDAYEVENT:FALSE
SUMMARY:Membership 101 - Orientation\, January 14\, 2016
DESCRIPTION:Join us for a FREE\, fun\, interactive networking event.  You'll learn how to make your Chamber membership work for you\, introduce yourself to dozens of business people\, and build your business network.\n\n\n\nYou'll also receive via email a list of everybody who attended.  By the way\, you don't have to be a new member to come.  Please join us and make new contacts!\n\nRegister early\, seating is limited!  There's no charge to attend\, but reservations are required no later than January 12.  Refreshments will be served.  Online registration is now available or you can email Doris at dbecker@fortworthchamber.com or call Doris at 817-338-3322.  If you have questions\, contact Teresa at tpearson@fortworthchamber.com\n\nNote:  The Garden Room has its own private entrance\, to the left of the main door to the Club.
X-ALT-DESC;FMTTYPE=text/html:<p align="left" style="font-family: Arial\;"><span style="font-size:14px\;"><span style="font-family: arial\;">Join us for a&nbsp\;FREE\, fun\, interactive networking event.&nbsp\; You&#39\;ll learn how to make your Chamber membership work for you\, introduce yourself to dozens of business people\, and build your business network.<br />\n<br />\nYou&#39\;ll also receive via email a list of everybody who attended.&nbsp\; By the way\, you don&#39\;t have to be a new member to come.&nbsp\; Please join us and make new contacts!</span></span></p>\n\n<p style="font-family: Arial\;"><span style="font-size:14px\;"><span style="font-family: arial\;">Register early\, seating is limited!&nbsp\; There&#39\;s no charge to attend\,&nbsp\;but reservations are required no later than January 12.&nbsp\; Refreshments will be served.&nbsp\; <strong>Online registration is now available<font color="#ff0000"><strong> </strong></font>or you can </strong>email Doris at dbecker@fortworthchamber.com or call Doris at 817-338-3322.&nbsp\; If you have questions\, contact Teresa at tpearson@fortworthchamber.com</span></span></p>\n\n<p style="font-family: Arial\;"><span style="font-size:14px\;"><span style="font-family: arial\;">Note:&nbsp\; The Garden Room has its own private entrance\, to the left of the main door to the Club.</span></span></p>\n\n<p style="font-family: Arial\; text-align: center\;">&nbsp\;</p>\n\n<p style="font-family: Arial\;"><br />\n&nbsp\;</p>\n\n<p style="font-family: Arial\; text-align: center\;"><br />\n&nbsp\;</p>\n\n<div style="text-align: center\;"><br />\n&nbsp\;</div>\n&nbsp\;\n\n<p align="center" style="font-family: Arial\;"><br />\n&nbsp\;</p>\n
LOCATION:Ridglea Country Club\, The Garden Room 3700 Bernie Anderson Drive\, Fort Worth\, 76116
UID:e.1802.5589
SEQUENCE:3
DTSTAMP:20260420T081248Z
URL:http://business.fortworthchamber.com/events/details/membership-101-orientation-january-14-2016-01-14-2016-5589
END:VEVENT

END:VCALENDAR
