BEGIN:VCALENDAR
VERSION:2.0
PRODID:-//ChamberMaster//Event Calendar 2.0//EN
METHOD:PUBLISH
X-PUBLISHED-TTL:P3D
REFRESH-INTERVAL:P3D
CALSCALE:GREGORIAN
BEGIN:VEVENT
DTSTART:20151103T140000Z
DTEND:20151103T150000Z
X-MICROSOFT-CDO-ALLDAYEVENT:FALSE
SUMMARY:Monthly Coffee & Conversation - Central Area Council
DESCRIPTION:Join the Central Area Council (CAC) for Coffee & Conversation the first Tuesday morning of every month!\n\n\n\nWe'll meet at the Starbucks in Sundance Square from 8-9 am - come and go as you please. This is your opportunity to meet your fellow Central Area Chamber members downtown over coffee.\n\n\n\nBring lots of business cards and get to know your neighbors.  There is no charge and no need to register.\n\n \n\nWe hope to see you there!\n\n\n\nFor parking options\, check out Sundance Square parking map here.
X-ALT-DESC;FMTTYPE=text/html:Join the Central Area Council (CAC) for Coffee &amp\; Conversation the first Tuesday morning of every month!<br />\n<br />\nWe&#39\;ll meet at the Starbucks in Sundance Square from 8-9 am - come and go as you please. This is your opportunity to meet your fellow Central Area Chamber members downtown over coffee.<br />\n<br />\nBring lots of business cards and get to know your neighbors.&nbsp\; There is no charge and no need to register.<br />\n&nbsp\;<br />\n<span style="color:#212121\;">We hope to see you there!</span><br />\n<br />\nFor parking options\, check out Sundance Square <a href="http://sundancesquare.com/parking/">parking map here</a>.
LOCATION:Sundance Square Plaza - Starbucks 141 W. 3rd Street Fort Worth\, 76102
UID:e.1802.4024
SEQUENCE:3
DTSTAMP:20260422T220937Z
URL:http://business.fortworthchamber.com/events/details/monthly-coffee-conversation-central-area-council-11-03-2015-4024
END:VEVENT

END:VCALENDAR
