BEGIN:VCALENDAR
VERSION:2.0
PRODID:-//ChamberMaster//Event Calendar 2.0//EN
METHOD:PUBLISH
X-PUBLISHED-TTL:P3D
REFRESH-INTERVAL:P3D
CALSCALE:GREGORIAN
BEGIN:VEVENT
DTSTART:20260927T000000Z
DTEND:20260927T040000Z
X-MICROSOFT-CDO-ALLDAYEVENT:FALSE
SUMMARY:Phil Wickham Song of the Saints Tour
DESCRIPTION:Phil Wickham is bringing his Song of the Saints Tour with special guest Jamie Macdonald on Saturday\, September 26\, 2026. \n\n\nMulti-Platinum-selling\, GRAMMY -nominated modern worship artist Phil Wickham has announced the Fall run of his Song of the Saints Tour\, a continuation of the 24-date Spring run\, where all dates are selling fast. Promoted by TPR.\, the tour will hit 16 cities across the U.S. with special guest Jamie MacDonald\, including Dickies Arena on Saturday\, September 26th. Each night will feature powerful moments of worship and offering fans an opportunity to experience the heart behind the deluxe album in a live setting\, gathering together to lift up the name of Jesus.  \n\nWickham is also set to release?Song Of The Saints (Deluxe)?on March 13 with Fair Trade Services. This special 2-disc deluxe edition reimagines the powerful songs from his acclaimed album?Song Of The Saints.? \n\nThe new project includes exciting collaborations with Lauren Daigle\, Brandon Lake\, Elevation Worship\, Crowder\, Jamie MacDonald\, Cain\, Chris Tomlin\, and a new version of the record-setting No. 1 single "What An Awesome God" with Michael W. Smith. With?Song Of The Saints (Deluxe)\, Wickham invites listeners into a renewed celebration of the songs that continue to shape worship moments around the world. \n\nAlong with the collaborations\, the expanded project showcases refreshed arrangements of fan-favorite tracks\, live versions\, and special remixes. This offers listeners a new dynamic experience of the songs that have already impacted people worldwide. You can pre-order?Song Of The Saints (Deluxe)?now.? \n\n\nAbout Phil Wickham: Phil Wickham is a GRAMMY  nominated\, Dove Award-winning modern worship artist whose songs have been sung in churches around the world. His first single off his upcoming record\, "The King Is In The Room\," is a powerful reminder to the truth that Jesus is present with us\, ready to move and set people free as we gather in His name. His 2024 Grammy-nominated album\, I Believe\, went No.1 on the Billboard Top Christian Albums\, while his song\, "House Of The Lord\," remained No.1 on the Billboard Christian AC Airplay Chart for multiple weeks. In 2023\, Wickham was nominated for two GRAMMY  awards in the category of "Best Contemporary Christian Music Performance/Song\," recognizing the songs "Hymn of Heaven" and "Holy Forever." At the 2024 GMA Dove Awards\, Wickham was the most awarded artist\, winning "Song of the Year" for "Holy Forever\," "Worship Album of the Year" for I Believe\, as well as "Christmas Recorded Song of the Year" for "Manger Throne." From his Gold-certified singles "This is Amazing Grace" and "Living Hope\," to his record-breaking song "What An Awesome God\," Wickham's music has received more than two billion streams in the U.S. alone across his catalog and platforms. Wickham's discography includes ten full-length projects\, multiple Christmas releases\, and a series of popular Singalong records. In his most recent book release\, "I Believe Devotional\," Phil invites people on a 14-day journey to living a life of greater faith.
X-ALT-DESC;FMTTYPE=text/html:<h3>Phil Wickham is bringing his Song of the Saints Tour with special guest Jamie Macdonald on Saturday\, September 26\, 2026.&nbsp\;</h3>\n\n<hr />\n<p>Multi-Platinum-selling\, GRAMMY&reg\;-nominated modern worship artist&nbsp\;Phil Wickham&nbsp\;has announced the Fall run of his&nbsp\;<em>Song of the Saints Tour\,</em>&nbsp\;a continuation of the 24-date Spring run\, where all dates are selling fast. Promoted by TPR.\, the tour will hit 16 cities across the U.S. with special guest Jamie MacDonald\, including&nbsp\;Dickies Arena&nbsp\;on Saturday\, September 26th. Each night will feature powerful moments of worship and offering fans an opportunity to experience the heart behind the deluxe album in a live setting\,&nbsp\;gathering together&nbsp\;to&nbsp\;lift up&nbsp\;the name of Jesus.&nbsp\;&nbsp\;</p>\n\n<p>Wickham is also set to release?<em>Song&nbsp\;Of&nbsp\;The&nbsp\;Saints (Deluxe)?</em>on March 13 with Fair Trade Services. This special 2-disc deluxe edition reimagines the powerful songs from his acclaimed album?<em>Song&nbsp\;Of&nbsp\;The&nbsp\;Saints.?</em>&nbsp\;</p>\n\n<p>The new project includes exciting collaborations with Lauren Daigle\, Brandon Lake\, Elevation Worship\, Crowder\, Jamie MacDonald\, Cain\, Chris Tomlin\, and&nbsp\;a new version&nbsp\;of the record-setting No. 1 single &ldquo\;What&nbsp\;An&nbsp\;Awesome God&rdquo\; with Michael W. Smith. With?<em>Song&nbsp\;Of&nbsp\;The&nbsp\;Saints (Deluxe)</em>\, Wickham invites listeners into a renewed celebration of the songs that continue to shape worship moments around the world.&nbsp\;</p>\n\n<p>Along with the collaborations\, the expanded project&nbsp\;showcases&nbsp\;refreshed arrangements of fan-favorite tracks\, live versions\, and special remixes. This offers listeners a new dynamic experience of the songs that have already&nbsp\;impacted&nbsp\;people worldwide. You can pre-order?<a href="https://t.e2ma.net/click/f1ikwm/vpoltdqc/jsqb9bb" style="box-sizing: inherit\; text-decoration-line: none\; color: rgb(0\, 123\, 255)\; background-color: transparent\; touch-action: manipulation\;"><em>Song Of The Saints (Deluxe)</em></a><a href="https://t.e2ma.net/click/f1ikwm/vpoltdqc/zkrb9bb" style="box-sizing: inherit\; text-decoration-line: none\; color: rgb(0\, 123\, 255)\; background-color: transparent\; touch-action: manipulation\;">?now</a>.?&nbsp\;</p>\n\n<hr />\n<p>About Phil&nbsp\;Wickham:&nbsp\;Phil Wickham is a GRAMMY&reg\; nominated\, Dove Award-winning modern worship artist whose songs have been sung in churches around the world. His first single off his upcoming record\, &ldquo\;The King Is&nbsp\;In&nbsp\;The&nbsp\;Room\,&rdquo\; is a powerful reminder to the truth that Jesus is present with us\, ready to move and set people free as we gather in His name. His 2024 Grammy-nominated album\,&nbsp\;<em>I Believe</em>\, went No.1 on the Billboard Top Christian Albums\, while his song\, &ldquo\;House&nbsp\;Of&nbsp\;The&nbsp\;Lord\,&rdquo\; remained No.1 on the Billboard Christian AC Airplay Chart for multiple weeks. In 2023\, Wickham was nominated for two GRAMMY&reg\; awards in the category of &ldquo\;Best Contemporary Christian Music Performance/Song\,&rdquo\; recognizing the songs &ldquo\;Hymn of Heaven&rdquo\; and &ldquo\;Holy Forever.&rdquo\; At the 2024 GMA Dove Awards\, Wickham was the most awarded artist\, winning &ldquo\;Song of the Year&rdquo\; for &ldquo\;Holy Forever\,&rdquo\; &ldquo\;Worship Album of the Year&rdquo\; for&nbsp\;<em>I Believe</em>\, as well as &ldquo\;Christmas Recorded Song of the Year&rdquo\; for &ldquo\;Manger Throne.&rdquo\; From his Gold-certified singles &ldquo\;This is Amazing Grace&rdquo\; and &ldquo\;Living Hope\,&rdquo\; to his record-breaking song &ldquo\;What&nbsp\;An&nbsp\;Awesome God\,&rdquo\; Wickham&rsquo\;s music has received more than two billion streams in the U.S. alone across his catalog and platforms. Wickham&rsquo\;s discography includes ten full-length projects\, multiple Christmas releases\, and a series of popular Singalong records. In his most recent book release\, &ldquo\;I Believe Devotional\,&rdquo\; Phil invites people on a 14-day journey to&nbsp\;living&nbsp\;a life of greater faith.</p>\n
LOCATION:Dickies Arena 1911 Montgomery St Fort Worth\, TX 76107
UID:e.1802.23289
SEQUENCE:3
DTSTAMP:20260421T101504Z
URL:http://business.fortworthchamber.com/events/details/phil-wickham-song-of-the-saints-tour-23289
END:VEVENT

END:VCALENDAR
