BEGIN:VCALENDAR
VERSION:2.0
PRODID:-//ChamberMaster//Event Calendar 2.0//EN
METHOD:PUBLISH
X-PUBLISHED-TTL:P3D
REFRESH-INTERVAL:P3D
CALSCALE:GREGORIAN
BEGIN:VEVENT
DTSTART:20231109T140000Z
DTEND:20231109T160000Z
X-MICROSOFT-CDO-ALLDAYEVENT:FALSE
SUMMARY:Ribbon Cutting: Premier Truck Rental
DESCRIPTION:LET'S CELEBRATE!\n\nCome join us in celebrating the grand re-opening of Premier Truck Rental! This is a great event to make new connections\, network and of course\, congratulate the company on this special occasion.\n\n\nADDITIONAL:\n\n\n	Snacks\, appetizers and non- alcoholic beverages will be served
X-ALT-DESC;FMTTYPE=text/html:<p><span style="font-size:26px\;"><strong><span style="color:#FF0000\;">LET&#39\;S CELEBRATE!</span></strong></span></p>\n\n<h1><span style="font-size:14px\;"><span style="font-family:arial\;">Come join us in celebrating the grand re-opening of&nbsp\;<b>Premier Truck Rental</b>!&nbsp\;This is a great event to make new connections\, network and of course\, congratulate the company&nbsp\;on this&nbsp\;special occasion.</span></span></h1>\n<br />\n<span style="font-size:14px\;"><span style="font-family:arial\;"><strong>ADDITIONAL:</strong></span></span>\n\n<ul>\n	<li><span style="font-size:14px\;"><font face="arial">Snacks\, appetizers&nbsp\;and&nbsp\;non- alcoholic beverages will be served</font></span></li>\n</ul>\n
LOCATION:Parking available on sight as well as in front of Boomer Jack's Grill
UID:e.1802.17709
SEQUENCE:3
DTSTAMP:20260419T163510Z
URL:http://business.fortworthchamber.com/events/details/ribbon-cutting-premier-truck-rental-17709
END:VEVENT

END:VCALENDAR
