BEGIN:VCALENDAR
VERSION:2.0
PRODID:-//ChamberMaster//Event Calendar 2.0//EN
METHOD:PUBLISH
X-PUBLISHED-TTL:P3D
REFRESH-INTERVAL:P3D
CALSCALE:GREGORIAN
BEGIN:VEVENT
DTSTART:20220104T223000Z
DTEND:20220104T233000Z
X-MICROSOFT-CDO-ALLDAYEVENT:FALSE
SUMMARY:TechNest Webinar: Where Experts Share Insights.
DESCRIPTION:
X-ALT-DESC;FMTTYPE=text/html:
LOCATION:Zoom
UID:e.1802.14202
SEQUENCE:3
DTSTAMP:20260424T144324Z
URL:http://business.fortworthchamber.com/events/details/technest-webinar-where-experts-share-insights-01-04-2022-14202
END:VEVENT

END:VCALENDAR
