BEGIN:VCALENDAR
VERSION:2.0
PRODID:-//ChamberMaster//Event Calendar 2.0//EN
METHOD:PUBLISH
X-PUBLISHED-TTL:P3D
REFRESH-INTERVAL:P3D
CALSCALE:GREGORIAN
BEGIN:VEVENT
DTSTART:20151109T233000Z
DTEND:20151110T013000Z
X-MICROSOFT-CDO-ALLDAYEVENT:FALSE
SUMMARY:Vision FW: Night Vision with Blue Zones Project!
DESCRIPTION:Join Vision Fort Worth for a fun night of food and wine at Times Ten Cellars!\n\n\n\nThe Blue Zones Project will be giving us a BZP Cooking Demonstration during which you will learn healthier cooking options using veggies\, fruits\, whole grains\, beans\, and nuts. Pair this delicious meal with a glass of red or white wine from Times Ten Cellars for the perfect evening. \n\n\n\nTicket price includes a glass of wine (white or red) and the tasting.  "Night Vision" is our version of a Happy Hour and we like to feature up and coming restaurants\, concepts or events.\n\n\n\nThis event features Chef Ben Merritt\, owner and head chef of Fixture\, Magnolia's hottest dining spot!
X-ALT-DESC;FMTTYPE=text/html:Join Vision Fort Worth for a fun night of food and wine at Times Ten Cellars!<br />\n<br />\nThe Blue Zones Project will be giving us a BZP Cooking Demonstration during which you will learn healthier cooking options using veggies\, fruits\, whole grains\, beans\, and nuts. Pair this delicious meal with a glass of red or white wine from Times Ten Cellars for the perfect evening.&nbsp\;<br />\n<br />\nTicket price includes a glass of wine (white or red) and the tasting.&nbsp\; &quot\;Night Vision&quot\; is our version of a Happy Hour and we like to feature up and coming restaurants\, concepts or events.<br />\n<br />\nThis event features Chef Ben Merritt\, owner and head chef of Fixture\, Magnolia&#39\;s hottest dining spot!
LOCATION:Times Ten Cellars 1100 Foch St Fort Worth\, TX 76107
UID:e.1802.5405
SEQUENCE:3
DTSTAMP:20260422T220831Z
URL:http://business.fortworthchamber.com/events/details/vision-fw-night-vision-with-blue-zones-project-11-09-2015-5405
END:VEVENT

END:VCALENDAR
