BEGIN:VCALENDAR
VERSION:2.0
PRODID:-//ChamberMaster//Event Calendar 2.0//EN
METHOD:PUBLISH
X-PUBLISHED-TTL:P3D
REFRESH-INTERVAL:P3D
CALSCALE:GREGORIAN
BEGIN:VEVENT
DTSTART:20260501T133000Z
DTEND:20260501T150000Z
X-MICROSOFT-CDO-ALLDAYEVENT:FALSE
SUMMARY:2026 Bond Election Briefing
DESCRIPTION:Join leaders of the Fort Worth community on Friday\, May 1 to learn about the City of Fort Worth's upcoming six-proposition bond election totaling $845 million. Early voting is open now through April 28. Election Day is Saturday\, May 2. \n\n\n\nFor the last two years\, during 1\,000+ conversations with businesses in Fort Worth\, road conditions in Fort Worth have consistently been ranked among the top three challenges faced by Fort Worth businesses. Road conditions and congestion were also identified as the top external challenge for hiring. Over $510 million in the bond election program would be dedicated to improving roads and mobility.\n\n\n\nHear from former Mayor of Fort Worth Betsy Price and Brian Newby\, Chair of Together Fort Worth\, on the significance of the upcoming bond and its impact on the future of Fort Worth. Assistant City Manager Dana Burghdoff will break down the details of the bond program. Attendees will have the opportunity to learn\, ask questions\, and take part in the conversation.\n\n\n\nAs Fort Worth continues to experience tremendous growth\, this bond package seeks to support critical infrastructure and services.\n\n\n\nThis event is generously sponsored by The Rios Group.\n\n\n\nCoffee and light breakfast will be served.
X-ALT-DESC;FMTTYPE=text/html:<br />\nJoin leaders of the Fort Worth community on Friday\, May 1 to learn about the City of Fort Worth&#39\;s upcoming six-proposition bond election totaling $845 million. Early voting is open now through April 28. Election Day is Saturday\, May 2.&nbsp\;<br />\n<br />\nFor the last two years\, during 1\,000+ conversations with businesses in Fort Worth\, road conditions in Fort Worth have consistently been ranked among the top three challenges faced by Fort Worth businesses. Road conditions and congestion were also identified as the top external challenge for hiring. Over $510 million in the bond election program would be dedicated to improving roads and mobility.<br />\n<br />\nHear from former Mayor of Fort Worth <strong>Betsy Price </strong>and <strong>Brian Newby</strong>\, Chair of Together Fort Worth\, on the significance of the upcoming bond and its impact on the future of Fort Worth. Assistant City Manager <strong>Dana Burghdoff </strong>will break down the details of the bond program. Attendees will have the opportunity to learn\, ask questions\, and take part in the conversation.<br />\n<br />\nAs Fort Worth continues to experience tremendous growth\, this bond package seeks to support critical infrastructure and services.<br />\n<br />\nThis event is generously sponsored by&nbsp\;<strong>The Rios Group</strong>.<br />\n<br />\nCoffee and light breakfast will be served.
LOCATION:Fort Worth Club Trinity Room - 12th Floor 306 W 7th St\, Fort Worth\, TX 76102
UID:e.1802.23690
SEQUENCE:3
DTSTAMP:20260423T225525Z
URL:https://business.fortworthchamber.com/events/details/2026-bond-election-briefing-23690
END:VEVENT

END:VCALENDAR
