BEGIN:VCALENDAR
VERSION:2.0
PRODID:-//ChamberMaster//Event Calendar 2.0//EN
METHOD:PUBLISH
X-PUBLISHED-TTL:P3D
REFRESH-INTERVAL:P3D
CALSCALE:GREGORIAN
BEGIN:VEVENT
DTSTART:20260127T233000Z
DTEND:20260128T013000Z
X-MICROSOFT-CDO-ALLDAYEVENT:FALSE
SUMMARY:2026 Economic Kickoff
DESCRIPTION:Join us for our 2026 Economic Kickoff\, an exclusive market and economic briefing designed to help clients and friends of the firm enter the new year with clarity and confidence.\n\nWe are honored to welcome Phil Blancato\, President and CEO of Ladenburg Thalmann\, as our featured speaker. Phil will provide an in-depth perspective on the markets\, the U.S. economy\, and the key forces expected to shape the investment landscape in 2026. His discussion will cover macroeconomic trends\, monetary and fiscal policy considerations\, market risks\, and potential opportunities investors should be watching in the year ahead.\n\nWe are also pleased to recognize Phil's recent industry honor\, being named Chief Investment Officer of the Year by ThinkAdvisor\, a distinction that reflects his leadership\, insight\, and influence within the investment management community.\n\nThis event is designed to be forward looking\, substantive\, and practical\, offering attendees a clear framework for understanding the economic environment ahead and how it may impact long term financial decision making.\n\nRSVP Required. Please contact Lyla Rathasing at lyla@charlesrgreen.com or 817-348-8700 to reserve your spot. Space is limited. Chamber members and guests are welcome.\n\n1612 Summit Ave.\, Suite 350\, Fort Worth\, TX 76102   817-348-8700  www.charlesrgreen.com\n\n\n\nSecurities and investment advisory services offered through Osaic Wealth\, Inc. member FINRA/SIPC. Osaic Wealth is separately owned and any other entities and/or marketing names\, products or services referenced here are independent of Osaic Wealth.
X-ALT-DESC;FMTTYPE=text/html:<p>Join us for our 2026 Economic Kickoff\, an exclusive market and economic briefing designed to help clients and friends of the firm enter the new year with clarity and confidence.</p>\n\n<p>We are honored to welcome <strong>Phil Blancato</strong>\, President and CEO of <strong>Ladenburg Thalmann</strong>\, as our featured speaker. Phil will provide an in-depth perspective on the markets\, the U.S. economy\, and the key forces expected to shape the investment landscape in 2026. His discussion will cover macroeconomic trends\, monetary and fiscal policy considerations\, market risks\, and potential opportunities investors should be watching in the year ahead.</p>\n\n<p>We are also pleased to recognize Phil&rsquo\;s recent industry honor\, being named Chief Investment Officer of the Year by <strong>ThinkAdvisor</strong>\, a distinction that reflects his leadership\, insight\, and influence within the investment management community.</p>\n\n<p>This event is designed to be forward looking\, substantive\, and practical\, offering attendees a clear framework for understanding the economic environment ahead and how it may impact long term financial decision making.</p>\n\n<p><strong>RSVP Required.</strong> Please contact Lyla Rathasing at lyla@charlesrgreen.com or 817-348-8700 to reserve your spot. Space is limited. Chamber members and guests are welcome.</p>\n\n<div style="margin-left:.1in\; text-align:center"><span style="font-size:10px"><em>1612 Summit Ave.\, Suite 350\, Fort Worth\, TX 76102&nbsp\;</em><span style="color:white\; font-family:montserrat">&middot\;</span><span style="color:white\; font-family:helvetica">&nbsp\;</span><em>817-348-8700&nbsp\;</em><span style="color:white\; font-family:montserrat">&middot\;</span><u><em>www.charlesrgreen.com</em></u><br />\n<br />\n<em>Securities and investment advisory services offered through&nbsp\;</em><span style="color:rgb(102\, 102\, 102)\; font-family:arial\,helvetica\,verdana\,geneva\,tahoma\,sans-serif"><em>Osaic</em><em>&nbsp\;Wealth</em><em>\,&nbsp\;</em><em>Inc.&nbsp\;</em></span><em>member FINRA/SIPC.&nbsp\;</em><span style="color:rgb(102\, 102\, 102)\; font-family:arial\,helvetica\,verdana\,geneva\,tahoma\,sans-serif"><em>Osaic</em><em>&nbsp\;Wealth&nbsp\;</em></span><em>is separately owned and any other entities and/or marketing names\, products or services&nbsp\;</em><em>referenced here are independent of&nbsp\;</em><span style="color:rgb(102\, 102\, 102)\; font-family:arial\,helvetica\,verdana\,geneva\,tahoma\,sans-serif"><em>Osaic</em><em>&nbsp\;Wealth</em><em>.</em></span></span></div>\n
LOCATION:The Fort Worth Club 306 W 7th St.\, 12th FL Fort Worth\, TX 76102
UID:e.1802.22857
SEQUENCE:3
DTSTAMP:20260421T082638Z
URL:https://business.fortworthchamber.com/events/details/2026-economic-kickoff-22857
END:VEVENT

END:VCALENDAR
