BEGIN:VCALENDAR
VERSION:2.0
PRODID:-//ChamberMaster//Event Calendar 2.0//EN
METHOD:PUBLISH
X-PUBLISHED-TTL:P3D
REFRESH-INTERVAL:P3D
CALSCALE:GREGORIAN
BEGIN:VEVENT
DTSTART:20220426T130000Z
DTEND:20220426T170000Z
X-MICROSOFT-CDO-ALLDAYEVENT:FALSE
SUMMARY:3 Cs for a Productive Team: Communication\, Conflict and Change Management
DESCRIPTION:An organization is only as productive as its people are valuable. This four-hour course will help build positive team engagement and increase effectiveness for remote and hybrid teams by addressing the core components needed to manage strong teams and collaborate effectively with other team members. Investing in your greatest asset\, your team\, will lead to guaranteed highly productive results.
X-ALT-DESC;FMTTYPE=text/html:<span style="color:rgb(111\, 114\, 135)\; font-family:neue plak\,-apple-system\,blinkmacsystemfont\,roboto\,helvetica neue\,helvetica\,tahoma\,arial\,sans-serif\; font-size:16px">An organization is only as productive as its people are valuable. This four-hour course will help build positive team engagement and increase effectiveness for remote and hybrid teams by addressing the core components needed to manage strong teams and collaborate effectively with other team members. Investing in your greatest asset\, your team\, will lead to guaranteed highly productive results.</span>
LOCATION:TCC Corporate Center for Learning & Development 2301 Horizon Drive 3rd Floor Fort Worth\, TX 76177
UID:e.1802.16358
SEQUENCE:3
DTSTAMP:20260424T153138Z
URL:https://business.fortworthchamber.com/events/details/3-cs-for-a-productive-team-communication-conflict-and-change-management-16358
END:VEVENT

END:VCALENDAR
