BEGIN:VCALENDAR
VERSION:2.0
PRODID:-//ChamberMaster//Event Calendar 2.0//EN
METHOD:PUBLISH
X-PUBLISHED-TTL:P3D
REFRESH-INTERVAL:P3D
CALSCALE:GREGORIAN
BEGIN:VEVENT
DTSTART:20251015T130000Z
DTEND:20251015T190000Z
X-MICROSOFT-CDO-ALLDAYEVENT:FALSE
SUMMARY:36th Annual Golf Classic
DESCRIPTION:Be a part of lasting change at Recovery Resource Council's 36th Annual Golf Classic! Spend an unforgettable day golfing while helping us continue to deliver vital wellness and recovery services to North Texans in need.\n\n \n\nHosted at the stunning Texas Star Golf Course\, this year's event promises a top-tier experience. Covering 275 scenic acres\, Texas Star boasts a beautifully crafted course of nearly 7\,000 yards\, with a par of 71. Your registration includes special golfer appreciation gifts\, access to range balls for warm-up\, breakfast\, lunch\, and refreshments throughout the tournament.\n\n \n\nSince 1946\, Recovery Resource Council has been a cornerstone of support for North Texas veterans\, individuals experiencing homelessness\, youth\, and families. The 36th Annual Golf Classic offers a powerful way to support the Council and further its mission of promoting wellness and recovery from disorders relating to alcohol\, substance use\, trauma\, and mental health.
X-ALT-DESC;FMTTYPE=text/html:Be a part of lasting change at <strong>Recovery Resource Council&rsquo\;s 36th Annual Golf Classic</strong>! Spend an unforgettable day golfing while helping us continue to deliver vital wellness and recovery services to North Texans in need.<br />\n&nbsp\;<br />\nHosted at the stunning <strong>Texas Star Golf Course</strong>\, this year&rsquo\;s event promises a top-tier experience. Covering 275 scenic acres\, Texas Star boasts a beautifully crafted course of nearly 7\,000 yards\, with a par of 71. Your registration includes special golfer appreciation gifts\, access to range balls for warm-up\, breakfast\, lunch\, and refreshments throughout the tournament.<br />\n&nbsp\;<br />\nSince 1946\, Recovery Resource Council has been a cornerstone of support for North Texas veterans\, individuals experiencing homelessness\, youth\, and families. The 36th Annual Golf Classic offers a powerful way to support the Council and further its mission of <strong>promoting wellness and recovery</strong> from disorders relating to alcohol\, substance use\, trauma\, and mental health.
LOCATION:Texas Star Golf Course - 1400 Texas Star Pkwy\, Euless\, TX 76040
UID:e.1802.22400
SEQUENCE:3
DTSTAMP:20260421T112114Z
URL:https://business.fortworthchamber.com/events/details/36th-annual-golf-classic-22400
END:VEVENT

END:VCALENDAR
