BEGIN:VCALENDAR
VERSION:2.0
PRODID:-//ChamberMaster//Event Calendar 2.0//EN
METHOD:PUBLISH
X-PUBLISHED-TTL:P3D
REFRESH-INTERVAL:P3D
CALSCALE:GREGORIAN
BEGIN:VEVENT
DTSTART:20230725T220000Z
DTEND:20230725T233000Z
X-MICROSOFT-CDO-ALLDAYEVENT:FALSE
SUMMARY:Accelerate Your Business: Meet The Lenders
DESCRIPTION:TruFund and Accelerate\, with support from the City of Fort Worth\, invite you for refreshments and a panel discussion with local lenders focusing on the opportunities and obstacles to small business funding. Representatives from local banks and Community Development Financial Institutions (CDFI's) will be on hand for a brief panel discussion and networking. If you own a small business or are thinking of starting one\, then you'll want to reserve your spot today. Registration is free.\n\nEvent: Accelerate Your Business: Meet the Lenders\n\nDate: 7/25/2023 at 05:00 PM\n\nDetails: Join us for a happy hour and panel discussion hosted by TruFund to hear from small business lenders in our region. Representatives from local banks and Community Development Financial Institutions (CDFI's) will discuss current opportunities and challenges facing small business lending. If you own a small business or are thinking of starting one\, then you'll want to reserve your spot today: Accelerate Your Business: Meet the Lenders - Event Registration (acceleratefortworth.org)
X-ALT-DESC;FMTTYPE=text/html:<p>TruFund and Accelerate\, with support from the City of Fort Worth\, invite you for refreshments and a panel discussion with local lenders focusing on the opportunities and obstacles to small business funding. Representatives from local banks and Community Development Financial Institutions (CDFI&#39\;s) will be on hand for a brief panel discussion and networking. If you own a small business or are thinking of starting one\, then you&#39\;ll want to reserve your spot today. Registration is free.<o:p></o:p></p>\n\n<p>Event: Accelerate Your Business: Meet the Lenders<o:p></o:p></p>\n\n<p>Date: 7/25/2023&nbsp\;at 05:00 PM<o:p></o:p></p>\n\n<p>Details: Join us for a happy hour and panel discussion hosted by TruFund to hear from small business lenders in our region. Representatives from local banks and Community Development Financial Institutions (CDFI&#39\;s) will discuss current opportunities and challenges facing small business lending. If you own a small business or are thinking of starting one\, then you&#39\;ll want to reserve your spot today:&nbsp\;<a href="https://members.acceleratefortworth.org/ap/Events/Register/DLyYNWAL?sourceTypeId=EmailInvitation">Accelerate Your Business: Meet the Lenders - Event Registration (acceleratefortworth.org)</a><o:p></o:p></p>\n
LOCATION:Accelerate Fort Worth Foundation 1150 South Freeway\, Building 600\, Fort Worth\, TX\, 76104\, United States
UID:e.1802.17622
SEQUENCE:3
DTSTAMP:20260423T205236Z
URL:https://business.fortworthchamber.com/events/details/accelerate-your-business-meet-the-lenders-17622
END:VEVENT

END:VCALENDAR
