BEGIN:VCALENDAR
VERSION:2.0
PRODID:-//ChamberMaster//Event Calendar 2.0//EN
METHOD:PUBLISH
X-PUBLISHED-TTL:P3D
REFRESH-INTERVAL:P3D
CALSCALE:GREGORIAN
BEGIN:VEVENT
DTSTART:20200602T180000Z
DTEND:20200602T190000Z
X-MICROSOFT-CDO-ALLDAYEVENT:FALSE
SUMMARY:Bellevue University Virtual Open House
DESCRIPTION:Join Bellevue University for a special\, online event!\n\n \n\nJune 2nd\, 2020 | 1:00 PM CT\n\n \n\nRegister for a live\, online information session to learn about your unique community college partnership with Bellevue University. Meet your local Bellevue University representative who will cover some of the most popular topics for transfer students including transfer credits\, cost\, and our 100% online degree programs. \n\n \n\nRegister Now!\n\n \n\n(Register now at https://www.bellevue.edu/event-forms/ppn-online-open-house/)
X-ALT-DESC;FMTTYPE=text/html:<strong><span style="color:#4F3674"><span style="font-family:arial\,sans-serif">Join Bellevue University for a special\, online event!</span></span></strong><br />\n&nbsp\;<br />\n<strong><span style="font-family:arial\,sans-serif">June 2<sup>nd</sup>\, 2020 | 1:00 PM CT</span></strong><br />\n&nbsp\;<br />\n<span style="font-family:arial\,sans-serif">Register for a live\, online information session to learn about your unique community college partnership with Bellevue University. Meet your local Bellevue University representative who will cover some of the most popular topics for transfer students including transfer credits\, cost\, and our 100% online degree programs. </span><br />\n&nbsp\;<br />\n<a href="https://www.bellevue.edu/event-forms/ppn-online-open-house/"><strong><span style="color:#4F3674"><span style="font-family:arial\,sans-serif"><span style="font-size:18.0pt">Register Now!</span></span></span></strong></a><br />\n&nbsp\;<br />\n<strong><span style="font-family:arial\,sans-serif">(Register now at </span></strong><a href="https://www.bellevue.edu/event-forms/ppn-online-open-house/"><strong><span style="color:#4F3674"><span style="font-family:arial\,sans-serif">https://www.bellevue.edu/event-forms/ppn-online-open-house/</span></span></strong></a><strong><span style="color:#4F3674"><span style="font-family:arial\,sans-serif">) </span></span></strong>
LOCATION:
UID:e.1802.13276
SEQUENCE:3
DTSTAMP:20260422T225903Z
URL:https://business.fortworthchamber.com/events/details/bellevue-university-virtual-open-house-13276
END:VEVENT

END:VCALENDAR
