BEGIN:VCALENDAR
VERSION:2.0
PRODID:-//ChamberMaster//Event Calendar 2.0//EN
METHOD:PUBLISH
X-PUBLISHED-TTL:P3D
REFRESH-INTERVAL:P3D
CALSCALE:GREGORIAN
BEGIN:VEVENT
DTSTART:20251121T193000Z
DTEND:20251121T210000Z
X-MICROSOFT-CDO-ALLDAYEVENT:FALSE
SUMMARY:Built in Fort Worth: Closing Celebration of Global Entrepreneurship Week
DESCRIPTION:Networking\, Panel & Resource Fair for Fort Worth Entrepreneurs hosted by Riverside Coworking\n\n\n\n\nBuilt in Fort Worth is an event for entrepreneurs and creators in Fort Worth. Join us for an afternoon of networking\, a panel of founders\, and connection to the resources available to support Fort Worth entrepreneurs. Panelists include:\n\n\n	Jonathan Morris\, owner of Hotel Dryce and Fort Worth Barber Shop\, host of TV show Self-Employed\n	Mia Moss\, owner of Black Coffee\n	Tasha Monticure\, owner of Bodega South Main\n	Wai-Yan Htun\, owner of XO Halal and 2025 Fort Worth Business Plan Competition Winner\n\n\nEmcee: Isabel Cable\, VP of Member Services and Strategic Growth at Fort Worth Hispanic Chamber\n\nPlease RSVP on Eventbrite!
X-ALT-DESC;FMTTYPE=text/html:<div>\n<div>Networking\, Panel &amp\; Resource Fair for Fort Worth Entrepreneurs hosted by Riverside Coworking</div>\n</div>\n\n<div>\n<div>\n<p>Built in Fort Worth is an event for entrepreneurs and creators in Fort Worth. Join us for an afternoon of networking\, a panel of founders\, and connection to the resources available to support Fort Worth entrepreneurs. Panelists include:</p>\n\n<ul>\n	<li>Jonathan Morris\, owner of Hotel Dryce and Fort Worth Barber Shop\, host of TV show Self-Employed</li>\n	<li>Mia Moss\, owner of Black Coffee</li>\n	<li>Tasha Monticure\, owner of Bodega South Main</li>\n	<li>Wai-Yan Htun\, owner of XO Halal and 2025 Fort Worth Business Plan Competition Winner</li>\n</ul>\n\n<p>Emcee: Isabel Cable\, VP of Member Services and Strategic Growth at Fort Worth Hispanic Chamber</p>\n\n<p>Please RSVP on Eventbrite!&nbsp\;</p>\n</div>\n</div>\n
LOCATION:Riverside Coworking 3001 S. Riverside Dr. Fort Worth\, TX 76119
UID:e.1802.22736
SEQUENCE:3
DTSTAMP:20260421T112642Z
URL:https://business.fortworthchamber.com/events/details/built-in-fort-worth-closing-celebration-of-global-entrepreneurship-week-22736
END:VEVENT

END:VCALENDAR
