BEGIN:VCALENDAR
VERSION:2.0
PRODID:-//ChamberMaster//Event Calendar 2.0//EN
METHOD:PUBLISH
X-PUBLISHED-TTL:P3D
REFRESH-INTERVAL:P3D
CALSCALE:GREGORIAN
BEGIN:VEVENT
DTSTART:20241023T213000Z
DTEND:20241023T223000Z
X-MICROSOFT-CDO-ALLDAYEVENT:FALSE
SUMMARY:Creative Kids Painting Class (ages 8-12) at 4All Studios at the YMCA
DESCRIPTION:Unleash your child's creativity and imagination in our "Creative Kids Painting Class"! Designed for children aged 8-12\, this engaging and fun-filled course will guide young artists through the exciting world of painting. In this class\, kids will: -Explore Different Mediums: Experiment with various painting materials such as watercolors\, acrylics\, and tempera\, learning how to use each one to create vibrant and unique artworks. -Learn Fundamental Techniques: Master essential painting techniques\, including brushwork\, color mixing\, and composition\, providing a strong foundation for artistic growth. -Express Creativity: Encourage self-expression through imaginative projects that inspire kids to bring their ideas to life on canvas. -Develop Artistic Skills: Gain confidence and improve fine motor skills while working on individual and group art projects. -Showcase Their Work: At the end of the course\, students will have the opportunity to display their masterpieces in a special art show for family and friends. Materials: All painting materials provided. Students are encouraged to wear clothes suitable for painting.
X-ALT-DESC;FMTTYPE=text/html:<span style="color:rgb(66\, 66\, 66)\; font-family:rubik\; font-size:18px">Unleash your child&#39\;s creativity and imagination in our &quot\;Creative Kids Painting Class&quot\;! Designed for children aged 8-12\, this engaging and fun-filled course will guide young artists through the exciting world of painting. In this class\, kids will: -Explore Different Mediums: Experiment with various painting materials such as watercolors\, acrylics\, and tempera\, learning how to use each one to create vibrant and unique artworks. -Learn Fundamental Techniques: Master essential painting techniques\, including brushwork\, color mixing\, and composition\, providing a strong foundation for artistic growth. -Express Creativity: Encourage self-expression through imaginative projects that inspire kids to bring their ideas to life on canvas. -Develop Artistic Skills: Gain confidence and improve fine motor skills while working on individual and group art projects. -Showcase Their Work: At the end of the course\, students will have the opportunity to display their masterpieces in a special art show for family and friends. Materials: All painting materials provided. Students are encouraged to wear clothes suitable for painting.</span>
LOCATION:4All Studios at the Downtown YMCA 512 Lamar Fort Worth\, TX 71602
UID:e.1802.19736
SEQUENCE:3
DTSTAMP:20260421T101112Z
URL:https://business.fortworthchamber.com/events/details/creative-kids-painting-class-ages-8-12-at-4all-studios-at-the-ymca-10-23-2024-19736
END:VEVENT

END:VCALENDAR
