BEGIN:VCALENDAR
VERSION:2.0
PRODID:-//ChamberMaster//Event Calendar 2.0//EN
METHOD:PUBLISH
X-PUBLISHED-TTL:P3D
REFRESH-INTERVAL:P3D
CALSCALE:GREGORIAN
BEGIN:VEVENT
DTSTART:20211104T220000Z
DTEND:20211105T000000Z
X-MICROSOFT-CDO-ALLDAYEVENT:FALSE
SUMMARY:Culture\, Cocktails & Camp Fire: Happy Hour at Hotel Drover
DESCRIPTION:A Happy Hour & Trivia night at Hotel Drover featuring:\n\n	Mix and Mingle with Funky Town's finest (that's you!)\n	Free drinks and hors d'oeuvres with ticket\n	Check out a special advance display of artwork curated JUST for An Artists' Christmas\n	Test your Trivia Skills and\n	A special welcome from Fort Worth Mayor Mattie Parker\n\n \n\nEach ticket holder will also be automatically entered to win TWO tickets to An Artists' Christmas: An Evening with Emmitt Smith.
X-ALT-DESC;FMTTYPE=text/html:A Happy Hour &amp\; Trivia night at Hotel Drover featuring:\n<ul>\n	<li>Mix and Mingle with Funky Town&rsquo\;s finest (that&rsquo\;s you!)</li>\n	<li>Free drinks and hors d&rsquo\;oeuvres with ticket</li>\n	<li>Check out a special advance display of artwork curated JUST for An Artists&rsquo\; Christmas</li>\n	<li>Test your Trivia Skills and</li>\n	<li>A special welcome from Fort Worth Mayor Mattie Parker</li>\n</ul>\n&nbsp\;<br />\nEach ticket holder will also be automatically entered to win TWO tickets to An Artists&#39\; Christmas: An Evening with Emmitt Smith.
LOCATION:Hotel Drover\, Legacy Hall Fort Worth Stockyards 200 Mule Alley Drive Fort Worth\, 76164
UID:e.1802.15264
SEQUENCE:3
DTSTAMP:20260425T001407Z
URL:https://business.fortworthchamber.com/events/details/culture-cocktails-camp-fire-happy-hour-at-hotel-drover-15264
END:VEVENT

END:VCALENDAR
