BEGIN:VCALENDAR
VERSION:2.0
PRODID:-//ChamberMaster//Event Calendar 2.0//EN
METHOD:PUBLISH
X-PUBLISHED-TTL:P3D
REFRESH-INTERVAL:P3D
CALSCALE:GREGORIAN
BEGIN:VEVENT
DTSTART:20251111T143000Z
DTEND:20251111T170000Z
X-MICROSOFT-CDO-ALLDAYEVENT:FALSE
SUMMARY:Economic Impact Forum NOV 11\, 2025
DESCRIPTION:EVENT REGISTRATION IS NOW CLOSED\n\n\n\nIn this session of the Fort Worth Chamber's Economic Impact Forum\, business and community leaders will explore two timely issues shaping the economic landscape locally and globally.\n\n\n	\n	From Policy to Profit: How Tariffs are Shaping Business Today   and What's Next for the Holiday Season and Beyond\n\n	Shane Williams\, Managing Director of Global Trade at Ernst & Young\, and JR Holcomb\, Director of Foreign-Trade Zone #196 at Hillwood\, will discuss how current trade policies and tariffs are influencing supply chains\, operations\, and profitability for North Texas businesses. Gain clarity on how policy shifts affect everything from holiday inventories to long-term growth strategies.\n	\n	\n	FBI Cybersecurity Briefing: Protecting Business and Community from Evolving Threats\n\n	Experts from the FBI will outline the most pressing cyber threats they are tracking\, from "man in the middle" attacks to sophisticated breaches targeting businesses of all sizes. Learn how these attacks can ripple across local economies\, what steps leaders can take to prepare\, and how to respond if your company becomes a target. The session includes an open Q&A with agents on the front lines of cyber security.
X-ALT-DESC;FMTTYPE=text/html:<div class="OutlineElement Ltr SCXW73313600 BCX8" font-size:="" segoe="" style="-webkit-user-drag: none\; -webkit-tap-highlight-color: transparent\; margin: 0px\; padding: 0px\; user-select: text\; clear: both\; cursor: text\; overflow: visible\; position: relative\; direction: ltr\; color: rgb(0\, 0\, 0)\; font-family: " ui="">\n<p class="Paragraph SCXW73313600 BCX8" paraeid="{f23e9536-f8de-43d8-875d-a88f54f1ceae}{196}" paraid="2121704718" style="-webkit-user-drag: none\; -webkit-tap-highlight-color: transparent\; margin: 16px 0px\; padding: 0px\; user-select: text\; overflow-wrap: break-word\; white-space-collapse: preserve\; vertical-align: baseline\; font-kerning: none\; color: windowtext\;"><span style="font-size:16px\;"><span style="font-family:arial\;"><span style="color:#E83125\;"><strong>EVENT REGISTRATION IS NOW CLOSED</strong></span><br />\n<br />\nIn this session of the Fort Worth Chamber&rsquo\;s Economic Impact Forum\, business and community leaders will explore two timely issues shaping the economic landscape locally and globally.</span></span></p>\n\n<ul data-end="1365" data-start="343">\n	<li data-end="849" data-start="343">\n	<p data-end="849" data-start="345"><span style="font-size:16px\;"><span style="font-family:arial\;"><strong data-end="462" data-start="345">From Policy to Profit: How Tariffs are Shaping Business Today &ndash\; and What&rsquo\;s Next for the Holiday Season and Beyond</strong><br data-end="465" data-start="462" />\n	Shane Williams\, Managing Director of Global Trade at Ernst &amp\; Young\, and JR Holcomb\, Director of Foreign-Trade Zone #196 at Hillwood\, will discuss how current trade policies and tariffs are influencing supply chains\, operations\, and profitability for North Texas businesses. Gain clarity on how policy shifts affect everything from holiday inventories to long-term growth strategies.</span></span></p>\n	</li>\n	<li data-end="1365" data-start="851">\n	<p data-end="1365" data-start="853"><span style="font-size:16px\;"><span style="font-family:arial\;"><strong data-end="940" data-start="853">FBI Cybersecurity Briefing: Protecting Business and Community from Evolving Threats</strong><br data-end="943" data-start="940" />\n	Experts from the FBI will outline the most pressing cyber threats they are tracking\, from &ldquo\;man in the middle&rdquo\; attacks to sophisticated breaches targeting businesses of all sizes. Learn how these attacks can ripple across local economies\, what steps leaders can take to prepare\, and how to respond if your company becomes a target. The session includes an open Q&amp\;A with agents on the front lines of cyber security.</span></span></p>\n	</li>\n</ul>\n</div>\n
LOCATION:Kimbell Art Museum- Piano Auditorium
UID:e.1802.22487
SEQUENCE:3
DTSTAMP:20260421T112512Z
URL:https://business.fortworthchamber.com/events/details/economic-impact-forum-nov-11-2025-22487
END:VEVENT

END:VCALENDAR
