BEGIN:VCALENDAR
VERSION:2.0
PRODID:-//ChamberMaster//Event Calendar 2.0//EN
METHOD:PUBLISH
X-PUBLISHED-TTL:P3D
REFRESH-INTERVAL:P3D
CALSCALE:GREGORIAN
BEGIN:VEVENT
DTSTART:20231004T130000Z
DTEND:20231004T180000Z
X-MICROSOFT-CDO-ALLDAYEVENT:FALSE
SUMMARY:Empowering the Modern PR Leader
DESCRIPTION:Join the Greater Fort Worth Chapter of the Public Relations Society of America (GFW PRSA) on Wednesday\, October 4\, for our annual half-day professional development program and luncheon presented by Mark Mohammadpour\, APR\, Fellow PRSA.\n\n\n\nMark is the founder and CEO of Oregon-based PR consultancy Chasing the Sun\, an internationally acclaimed speaker and PR practitioner\, a monthly columnist for PRSA's Strategies & Tactics magazine\, and a certified health coach and personal trainer.\n\n\n\nTitled\, "Empowering the Modern PR Leader\," the program will include interactive workshops and breakout sessions focused on Confidence and Owning the Room\, Designing Your Personal Well-being Plan\, and Leading with Empathy\, which includes PR management lessons from the Apple TV+ hit series\, "Ted Lasso."\n\n\n\nAttendees will learn how to:\n\n  build trust and earn respect from colleagues and clients-alike\n\n  prioritize health and wellness to stay mentally and physically resilient\n\n  implement a winning workplace culture through an empathetic leadership style\n\n  become a more impactful leader
X-ALT-DESC;FMTTYPE=text/html:<div>Join the Greater Fort Worth Chapter of the Public Relations Society of America (GFW PRSA) on Wednesday\, October 4\, for our annual half-day professional development program and luncheon presented by Mark Mohammadpour\, APR\, Fellow PRSA.<br />\n<br />\nMark is the founder and CEO of Oregon-based PR consultancy Chasing the Sun\, an internationally acclaimed speaker and PR practitioner\, a monthly columnist for PRSA&rsquo\;s Strategies &amp\; Tactics magazine\, and a certified health coach and personal trainer.<br />\n<br />\nTitled\, &ldquo\;Empowering the Modern PR Leader\,&rdquo\; the program will include interactive workshops and breakout sessions focused on Confidence and Owning the Room\, Designing Your Personal Well-being Plan\, and Leading with Empathy\, which includes PR management lessons from the Apple TV+ hit series\, &ldquo\;Ted Lasso.&rdquo\;<br />\n<br />\nAttendees will learn how to:<br />\n&bull\; build trust and earn respect from colleagues and clients-alike<br />\n&bull\; prioritize health and wellness to stay mentally and physically resilient<br />\n&bull\; implement a winning workplace culture through an empathetic leadership style<br />\n&bull\; become a more impactful leader</div>\n
LOCATION:Ridglea Country Club 3700 Bernie Anderson\, Fort Worth\, TX 76116
UID:e.1802.18472
SEQUENCE:3
DTSTAMP:20260424T143322Z
URL:https://business.fortworthchamber.com/events/details/empowering-the-modern-pr-leader-18472
END:VEVENT

END:VCALENDAR
