BEGIN:VCALENDAR
VERSION:2.0
PRODID:-//ChamberMaster//Event Calendar 2.0//EN
METHOD:PUBLISH
X-PUBLISHED-TTL:P3D
REFRESH-INTERVAL:P3D
CALSCALE:GREGORIAN
BEGIN:VEVENT
DTSTART:20220413T170000Z
DTEND:20220413T180000Z
X-MICROSOFT-CDO-ALLDAYEVENT:FALSE
SUMMARY:Financial Planning Lunch & Learn: Saving for College
DESCRIPTION:Join the DFW Financial Planning Association for this free\, virtual webinar\, discussing all things about saving for college.\n\n\n\nWe will talk about financial aid\, tax-advantaged savings plans\, and college education costs\, the two different types of 529 accounts\, Coverdell Education Savings accounts\, and Series EE and I Bonds.\n\n\n\nLastly\, we will show you show to do a quick calculation to estimate future education costs.\n\n\n\nRegister for free here: https://us02web.zoom.us/webinar/register/WN_dBMOPPe8SjSjczvzhGzxzg
X-ALT-DESC;FMTTYPE=text/html:Join the DFW Financial Planning Association for this free\, virtual webinar\, discussing all things about saving for college.<br />\n<br />\nWe will talk about financial aid\, tax-advantaged savings plans\, and college education costs\, the two different types of 529 accounts\, Coverdell Education Savings accounts\, and Series EE and I Bonds.<br />\n<br />\nLastly\, we will show you show to do a quick calculation to estimate future education costs.<br />\n<br />\nRegister for free here:&nbsp\;https://us02web.zoom.us/webinar/register/WN_dBMOPPe8SjSjczvzhGzxzg
LOCATION:Virtual event presented by the Fort Worth Public Library.
UID:e.1802.16144
SEQUENCE:3
DTSTAMP:20260424T153720Z
URL:https://business.fortworthchamber.com/events/details/financial-planning-lunch-learn-saving-for-college-16144
END:VEVENT

END:VCALENDAR
