BEGIN:VCALENDAR
VERSION:2.0
PRODID:-//ChamberMaster//Event Calendar 2.0//EN
METHOD:PUBLISH
X-PUBLISHED-TTL:P3D
REFRESH-INTERVAL:P3D
CALSCALE:GREGORIAN
BEGIN:VEVENT
DTSTART:20230727T180000Z
DTEND:20230727T220000Z
X-MICROSOFT-CDO-ALLDAYEVENT:FALSE
SUMMARY:Fort Worth ISD Back-to-School Hiring Extravaganza
DESCRIPTION:FORT WORTH INDEPENDENT SCHOOL DISTRICT\n\nJuly Back-to-School Hiring Extravaganza\n\n \nInterested in becoming a Teacher\, Teacher Assistant or working in Operations with the Fort Worth Independent School District? Join us on Thursday\, July 27th\, from 1:00 pm - 5:00 pm\, at the Teaching and Learning Center\, located at 1050 Bridgewood Dr.\, Fort Worth\, TX 76112 for our July Back-to-School Hiring Extravaganza. \n\n\n\nParticipants will have the opportunity to meet with hiring managers from across the district to become a part of their team. \n\n\n\nWalk-ins are welcomed the day of the event.\n\n\n\nRSVP
X-ALT-DESC;FMTTYPE=text/html:<div style="text-align:center"><span style="color:#0000CD"><span style="font-family:roboto\,arial\,sans-serif\; font-size:14.6667px"><span style="font-size:28px">FORT WORTH INDEPENDENT SCHOOL DISTRICT</span></span></span><br />\n<span style="color:#000000"><span style="font-size:22px"><strong>July Back-to-School Hiring Extravaganza</strong></span></span><br />\n&nbsp\;</div>\n<span style="color:#000000"><span style="font-family:roboto\,arial\,sans-serif\; font-size:14.6667px">Interested in becoming a Teacher\, Teacher Assistant or working in Operations with the Fort Worth Independent School District? Join us on Thursday\, July 27th\, from 1:00 pm - 5:00 pm\, at the Teaching and Learning Center\, located at 1050 Bridgewood Dr.\, Fort Worth\, TX 76112 for our <strong>July Back-to-School Hiring Extravaganza.&nbsp\;</strong></span><br />\n<br />\n<span style="font-family:roboto\,arial\,sans-serif\; font-size:14.6667px">Participants will have the opportunity to meet with hiring managers from across the district to become a part of their team. </span></span><br />\n<br />\n<span style="font-family:roboto\,arial\,sans-serif\; font-size:14.6667px"><span style="color:#000000">Walk-ins are welcomed the day of the event.</span><br />\n<br />\n<span style="font-size:18px"><a href="https://docs.google.com/forms/d/e/1FAIpQLScJ59EqbBo1m72Ivla8JLq4LAESOg6EHx8il_yBndUXzwvT5Q/viewform"><span style="color:#000000"><strong><span style="background-color:#FFFF00">RSVP</span></strong></span></a></span></span><br />\n<br />\n<br />\n<br />\n&nbsp\;
LOCATION:FORT WORTH ISD Teaching and Learning Center 1050 Bridgewood Dr. Fort Worth\, TX 76112
UID:e.1802.17598
SEQUENCE:3
DTSTAMP:20260423T205138Z
URL:https://business.fortworthchamber.com/events/details/fort-worth-isd-back-to-school-hiring-extravaganza-17598
END:VEVENT

END:VCALENDAR
