BEGIN:VCALENDAR
VERSION:2.0
PRODID:-//ChamberMaster//Event Calendar 2.0//EN
METHOD:PUBLISH
X-PUBLISHED-TTL:P3D
REFRESH-INTERVAL:P3D
CALSCALE:GREGORIAN
BEGIN:VEVENT
DTSTART:20230704T220000Z
DTEND:20230705T030000Z
X-MICROSOFT-CDO-ALLDAYEVENT:FALSE
SUMMARY:Fort Worth's Fourth
DESCRIPTION:Tarrant Regional Water District is proud to once again bring you the Texas-sized fireworks show and festival\, Fort Worth's Fourth! Join us for the 16th year of this Independence Day celebration along the banks of the Trinity River at Panther Island Pavilion and enjoy an evening of festival food\, cold drinks\, kids' activities\, live music\, and an amazing fireworks show.
X-ALT-DESC;FMTTYPE=text/html:Tarrant Regional Water District is proud to once again bring you the Texas-sized fireworks show and festival\, Fort Worth&rsquo\;s Fourth! Join us for the 16th year of this Independence Day celebration along the banks of the Trinity River at Panther Island Pavilion and enjoy an evening of festival food\, cold drinks\, kids&rsquo\; activities\, live music\, and an amazing fireworks show.
LOCATION:Panther Island Pavilion 395 Purcey St. Fort Worth\, TX 76102
UID:e.1802.17584
SEQUENCE:3
DTSTAMP:20260423T205057Z
URL:https://business.fortworthchamber.com/events/details/fort-worth-s-fourth-07-04-2023-17584
END:VEVENT

END:VCALENDAR
