BEGIN:VCALENDAR
VERSION:2.0
PRODID:-//ChamberMaster//Event Calendar 2.0//EN
METHOD:PUBLISH
X-PUBLISHED-TTL:P3D
REFRESH-INTERVAL:P3D
CALSCALE:GREGORIAN
BEGIN:VEVENT
DTSTART:20260119T230000Z
DTEND:20260120T043000Z
X-MICROSOFT-CDO-ALLDAYEVENT:FALSE
SUMMARY:NCAA College Football Game Day at the Omni Theatre
DESCRIPTION:Beyond the Box Catering and the Fort Worth Museum of Science and History are teaming up to transform the\n\nJane & John Justin Foundation Omni Theater into Fort Worth's ultimate championship headquarters. Watch the NCAA National Championship game on the immersive dome\, Powered by COSM Technology\, with stadium vibes\, craft food and drinks\, and interactive experiences you won't get at home.\n\n\n\nThis is more than a watch party\, it's Game Day at the Omni.\n Date: Monday\, January 19\, 2026\n\n Time: Doors open 5:00PM\; event runs through the final whistle\n\nLocation: Jane & John Justin Foundation Omni Theater\n\nTicket Price: $50 per person\n\n? Seating: First come\, first served inside the Omni Theater\n\n?What You'll Experience\n\n\n\n\n\n	\n		\n			\n			\n			\n				The NCAA National Championship streamed on the dome screen\n				Panoramic action that surrounds you for a bigger-than-life game experience\n			\n			Interactive Game Day Energy\n\n			\n				In-theater bars with beer\, wine\, and signature Game Day cocktails\n				Concessions open with elevated game day bites by Beyond the Box\n				Stadium-style atmosphere without leaving Fort Worth\n			\n			You're not just watching the game\, you're in it.
X-ALT-DESC;FMTTYPE=text/html:<div>\n<h2 style="text-align:right"><span style="color:rgb(42\, 42\, 42)\; font-family:gentium basic\; font-size:18px">Beyond the Box Catering and the Fort Worth Museum of Science and History are teaming up to transform the</span><br />\n<span style="color:rgb(42\, 42\, 42)\; font-family:gentium basic\; font-size:18px">Jane &amp\; John Justin Foundation Omni Theater into Fort Worth&rsquo\;s ultimate championship headquarters. Watch the NCAA National Championship game on the immersive dome\, Powered by COSM Technology\, with stadium vibes\, craft food and drinks\, and interactive experiences you won&rsquo\;t get at home.</span><br />\n<br />\n<span style="color:rgb(42\, 42\, 42)\; font-family:gentium basic\; font-size:18px">This is more than a watch party\,&nbsp\;it&rsquo\;s Game Day at the Omni.</span></h2>\n&nbsp\;<strong>Date:</strong>&nbsp\;Monday\, January 19\, 2026<br />\n&nbsp\;<strong>Time:</strong>&nbsp\;Doors open 5:00PM\; event runs through the final whistle<br />\n<strong>Location:</strong>&nbsp\;Jane &amp\; John Justin Foundation Omni Theater<br />\n<strong>Ticket Price:</strong>&nbsp\;$50 per person<br />\n?&nbsp\;<strong>Seating:</strong>&nbsp\;First come\, first served inside the Omni&nbsp\;Theater\n\n<h2>?What You&rsquo\;ll Experience</h2>\n\n<div>\n<div>\n<div>\n<table class="wsite-multicol-table" style="border-collapse:collapse\; border:0px !important\; margin:0px !important\; padding:0px !important\; position:relative\; table-layout:fixed\; width:942px">\n	<tbody>\n		<tr>\n			<td style="vertical-align:top\; width:441px">\n			<div>\n			<ul>\n				<li>The NCAA National Championship streamed on the dome screen</li>\n				<li>Panoramic action that surrounds you for a bigger-than-life game experience</li>\n			</ul>\n			<strong>Interactive Game Day Energy</strong>\n\n			<ul>\n				<li>In-theater bars with beer\, wine\, and signature Game Day cocktails</li>\n				<li>Concessions open with elevated game day bites by Beyond the Box</li>\n				<li>Stadium-style atmosphere without leaving Fort Worth</li>\n			</ul>\n			You&rsquo\;re not just watching the game\, you&rsquo\;re in it.</div>\n			</td>\n		</tr>\n	</tbody>\n</table>\n</div>\n</div>\n</div>\n</div>\n
LOCATION:Jane & John Justin Foundation Omni Theater 1600 Gendy St\, Fort Worth\, TX 76107
UID:e.1802.22858
SEQUENCE:3
DTSTAMP:20260419T140014Z
URL:https://business.fortworthchamber.com/events/details/game-day-at-the-omni-theatre-22858
END:VEVENT

END:VCALENDAR
