BEGIN:VCALENDAR
VERSION:2.0
PRODID:-//ChamberMaster//Event Calendar 2.0//EN
METHOD:PUBLISH
X-PUBLISHED-TTL:P3D
REFRESH-INTERVAL:P3D
CALSCALE:GREGORIAN
BEGIN:VEVENT
DTSTART:20251129T190000Z
DTEND:20251129T210000Z
X-MICROSOFT-CDO-ALLDAYEVENT:FALSE
SUMMARY:Holiday Made Easy: Create & Celebrate by Staples
DESCRIPTION:Join us for a family-friendly holiday kickoff event at Staples. This event is designed to make holiday planning simple\, meaningful\, and stress-free. Families are welcome to enjoy:\n\n\n	\n	Santa meet & greet\n	\n	\n	Coloring and craft table for children\n	\n	\n	Light holiday treats\n	\n	\n	A warm and festive atmosphere\n	\n\n\nIn addition\, our team will be showcasing how to create custom holiday photo gifts through our Print & Marketing services\, including personalized mugs\, photo calendars\, greeting cards\, and custom wrapping paper. Whether you're looking for unique gifts or ways to simplify your holiday preparations\, we are here to help.
X-ALT-DESC;FMTTYPE=text/html:<p>Join us for a family-friendly holiday kickoff event at Staples. This event is designed to make holiday planning simple\, meaningful\, and stress-free. Families are welcome to enjoy:</p>\n\n<ul>\n	<li>\n	<p>Santa meet &amp\; greet</p>\n	</li>\n	<li>\n	<p>Coloring and craft table for children</p>\n	</li>\n	<li>\n	<p>Light holiday treats</p>\n	</li>\n	<li>\n	<p>A warm and festive atmosphere</p>\n	</li>\n</ul>\n\n<p>In addition\, our team will be showcasing how to create <strong>custom holiday photo gifts</strong> through our Print &amp\; Marketing services\, including personalized mugs\, photo calendars\, greeting cards\, and custom wrapping paper. Whether you&rsquo\;re looking for unique gifts or ways to simplify your holiday preparations\, we are here to help.</p>\n
LOCATION:Staples University Store 1660 S University Dr. Fort Worth\, TX 76107
UID:e.1802.22738
SEQUENCE:3
DTSTAMP:20260421T112431Z
URL:https://business.fortworthchamber.com/events/details/holiday-made-easy-create-celebrate-by-staples-22738
END:VEVENT

END:VCALENDAR
