BEGIN:VCALENDAR
VERSION:2.0
PRODID:-//ChamberMaster//Event Calendar 2.0//EN
METHOD:PUBLISH
X-PUBLISHED-TTL:P3D
REFRESH-INTERVAL:P3D
CALSCALE:GREGORIAN
BEGIN:VEVENT
DTSTART:20211207T220000Z
DTEND:20211208T000000Z
X-MICROSOFT-CDO-ALLDAYEVENT:FALSE
SUMMARY:Kris Kringle Mix & Mingle Networking Happy Hour for Chamber Members
DESCRIPTION:
X-ALT-DESC;FMTTYPE=text/html:
LOCATION:Overture River District 101 Nursery Lane Suite 150 Fort Worth 76114
UID:e.1802.15961
SEQUENCE:3
DTSTAMP:20260424T223505Z
URL:https://business.fortworthchamber.com/events/details/kris-kringle-mix-mingle-networking-happy-hour-for-chamber-members-15961
END:VEVENT

END:VCALENDAR
