BEGIN:VCALENDAR
VERSION:2.0
PRODID:-//ChamberMaster//Event Calendar 2.0//EN
METHOD:PUBLISH
X-PUBLISHED-TTL:P3D
REFRESH-INTERVAL:P3D
CALSCALE:GREGORIAN
BEGIN:VEVENT
DTSTART:20220429T230000Z
DTEND:20220430T033000Z
X-MICROSOFT-CDO-ALLDAYEVENT:FALSE
SUMMARY:Magic On Magnolia
DESCRIPTION:Magic On Magnolia 80-minutes of mystifying wonder\, impossible mind reading\, head-scratching card manipulation\, and laughs   lots of laughs. Located at BREWED in the Cultural District of Fort Worth\, Magic On Magnolia is the only show of its genre in Funky Town. All tickets include a beer or wine upon your arrival. Additional drinks will be available for purchase at the bar.\n\n\n\nSeating is on a first-come\, first-served basis. Lucky for you\, with only 50 seats\, there isn't a bad seat in the house.
X-ALT-DESC;FMTTYPE=text/html:<span style="font-family:open sans\,arial\,sans-serif\; font-size:18px">Magic On Magnolia 80-minutes of mystifying wonder\, impossible mind reading\, head-scratching card manipulation\, and laughs &mdash\; lots of laughs. Located at BREWED</span><span style="font-family:open sans\,arial\,sans-serif\; font-size:18px">&nbsp\;in the Cultural District of Fort Worth\,</span><span style="font-family:open sans\,arial\,sans-serif\; font-size:18px">&nbsp\;Magic On Magnolia is the only show of its genre in Funky Town. All tickets include a beer or wine upon your arrival. Additional drinks will be available for purchase at the bar.<br />\n<br />\nSeating is on a first-come\, first-served basis. Lucky for you\, with only 50 seats\, there isn&rsquo\;t a bad seat in the house.</span>
LOCATION:BREWED 801 W Magnolia Ave\, Fort Worth\, TX 76104
UID:e.1802.16152
SEQUENCE:3
DTSTAMP:20260424T153653Z
URL:https://business.fortworthchamber.com/events/details/magic-on-magnolia-16152
END:VEVENT

END:VCALENDAR
