BEGIN:VCALENDAR
VERSION:2.0
PRODID:-//ChamberMaster//Event Calendar 2.0//EN
METHOD:PUBLISH
X-PUBLISHED-TTL:P3D
REFRESH-INTERVAL:P3D
CALSCALE:GREGORIAN
BEGIN:VEVENT
DTSTART:20211105T150000Z
DTEND:20211105T160000Z
X-MICROSOFT-CDO-ALLDAYEVENT:FALSE
SUMMARY:Membership 101-November 5th 2021
DESCRIPTION:Get ready to make the most of your chamber membership! \n\n\n\nJoin us for a FREE\, interactive\, members-only virtual networking event. You'll learn how to make your Chamber membership work for you\, introduce yourself to dozens of business people\, and build your business network.\n\n\n\nBy the way\, this event is open to both new members and existing members. Please join us and make new contacts!\n\n\n\nRegister early\, seating is limited! There's no charge to attend\, but reservations are required. Online registration is now available. If you have questions about this event\, contact Lauren at lreeves@fortworthchamber.com\n\n\n\nTopics we will discuss\n\n- Leveraging the Member Information Center\n\n- Events and Programs\n\n- Marketing and brand exposure through the Chamber\n\n- Ribbon Cuttings
X-ALT-DESC;FMTTYPE=text/html:&nbsp\;<br />\nGet ready to make the most of your chamber membership!&nbsp\;<br />\n<br />\nJoin us for a FREE\, interactive\, members-only virtual networking event. You&#39\;ll learn how to make your Chamber membership work for you\, introduce yourself to dozens of business people\, and build your business network.<br />\n<br />\nBy the way\, this event is open to both new members and existing members. Please join us and make new contacts!<br />\n<br />\nRegister early\, seating is limited! There&#39\;s no charge to attend\, but reservations are required. Online registration is now available. If you have questions about this event\, contact Lauren at lreeves@fortworthchamber.com<br />\n<br />\nTopics we will discuss<br />\n- Leveraging the Member Information Center<br />\n- Events and Programs<br />\n- Marketing and brand exposure through the Chamber<br />\n- Ribbon Cuttings<br />\n&nbsp\;
LOCATION:Zoom link provided after registration.
UID:e.1802.15272
SEQUENCE:3
DTSTAMP:20260424T235836Z
URL:https://business.fortworthchamber.com/events/details/membership-101-november-5th-2021-15272
END:VEVENT

END:VCALENDAR
