BEGIN:VCALENDAR
VERSION:2.0
PRODID:-//ChamberMaster//Event Calendar 2.0//EN
METHOD:PUBLISH
X-PUBLISHED-TTL:P3D
REFRESH-INTERVAL:P3D
CALSCALE:GREGORIAN
BEGIN:VEVENT
DTSTART:20191118T210000Z
DTEND:20191118T230000Z
X-MICROSOFT-CDO-ALLDAYEVENT:FALSE
SUMMARY:Oval Table Series\, a small business discussion
DESCRIPTION:Oval Table Series - Pivoting to Find Success\n\n\n\nAttend the Fort Worth Chamber's "Oval Tables Series" event for a small business discussion.  Hear three distinct business stories   how/why they were started\, challenges they have faced along the way and how they've had to pivot to find success.  This is an open conversation\, so we will encourage questions from the attendees.  Join us for the Fort Worth Chamber's Global Entrepreneurship Week event! \n\n\n\nJoin us at the table with:\n\n\n	John Ashour - InterConnect Wiring LLP\n	Oscar and Patsy Oaxaca - Basecom Inc.\n	Jason Scoggins - Alpha Industries
X-ALT-DESC;FMTTYPE=text/html:<p><span style="font-size:14px\;"><span style="font-family:arial\;"><strong>Oval Table Series - Pivoting to Find Success</strong><br />\n<br />\nAttend the Fort Worth Chamber&rsquo\;s &ldquo\;Oval Tables Series&rdquo\; event for a small business discussion.&nbsp\; Hear three distinct business stories &ndash\; how/why they were started\, challenges they have faced along the way and how they&rsquo\;ve had to pivot to find success.&nbsp\; This is an open conversation\, so we will encourage questions from the attendees.&nbsp\; Join us for the Fort Worth Chamber&rsquo\;s <a href="https://www.genglobal.org/malta/global-entrepreneurship-week-2019"><em>Global Entrepreneurship Week</em></a> event!&nbsp\;<br />\n<br />\nJoin us at the table with:</span></span></p>\n\n<ul>\n	<li><span style="font-size:14px\;"><span style="font-family:arial\;">John Ashour - <a href="https://www.interconnect-wiring.com/">InterConnect Wiring LLP</a></span></span></li>\n	<li><span style="font-size:14px\;"><span style="font-family:arial\;">Oscar and Patsy Oaxaca - <a href="https://www.basecominc.com/">Basecom Inc.</a></span></span></li>\n	<li><span style="font-size:14px\;"><span style="font-family:arial\;">Jason Scoggins - <a href="http://alphaindustriesllc.com/">Alpha Industries</a></span></span></li>\n</ul>\n
LOCATION:Fort Worth Chamber Simmons Bank Progress Center 777 Taylor Street\, Suite 900 Fort Worth\, TX 76102 Parking: Complimentary
UID:e.1802.12280
SEQUENCE:3
DTSTAMP:20260421T015324Z
URL:https://business.fortworthchamber.com/events/details/oval-table-series-a-small-business-discussion-11-18-2019-12280
END:VEVENT

END:VCALENDAR
