BEGIN:VCALENDAR
VERSION:2.0
PRODID:-//ChamberMaster//Event Calendar 2.0//EN
METHOD:PUBLISH
X-PUBLISHED-TTL:P3D
REFRESH-INTERVAL:P3D
CALSCALE:GREGORIAN
BEGIN:VEVENT
DTSTART:20220902T150000Z
DTEND:20220902T160000Z
X-MICROSOFT-CDO-ALLDAYEVENT:FALSE
SUMMARY:Ribbon Cutting: Brakes Plus
DESCRIPTION:LET'S CELEBRATE!\n\n \n\nCome join us to help celebrate the Ribbon Cutting for Brakes Plus! This is a great event to make new connections\, network and of course\, congratulate  the company on this special occasion.\nADDITIONAL:\n\n\n	Snacks\, and non-alcoholic beverages will be served
X-ALT-DESC;FMTTYPE=text/html:<p>&nbsp\;</p>\n\n<h1><strong><span style="color:#FF0000\;">LET&#39\;S CELEBRATE!</span></strong></h1>\n\n<h1><span style="font-size:16px\;"><strong>&nbsp\;</strong></span></h1>\n\n<p>Come join us to help celebrate the Ribbon Cutting for <b>Brakes Plus</b>! This is a great event to make new connections\, network and of course\, congratulate&nbsp\; the company&nbsp\;on this&nbsp\;special occasion.</p>\n<strong>ADDITIONAL:</strong>\n\n<ul>\n	<li>Snacks\, and non-alcoholic&nbsp\;beverages will be served</li>\n</ul>\n\n<h1>&nbsp\;</h1>\n
LOCATION:Parking lot available
UID:e.1802.16559
SEQUENCE:3
DTSTAMP:20260424T053251Z
URL:https://business.fortworthchamber.com/events/details/ribbon-cutting-brakes-plus-16559
END:VEVENT

END:VCALENDAR
