BEGIN:VCALENDAR
VERSION:2.0
PRODID:-//ChamberMaster//Event Calendar 2.0//EN
METHOD:PUBLISH
X-PUBLISHED-TTL:P3D
REFRESH-INTERVAL:P3D
CALSCALE:GREGORIAN
BEGIN:VEVENT
DTSTART:20230804T153000Z
DTEND:20230804T163000Z
X-MICROSOFT-CDO-ALLDAYEVENT:FALSE
SUMMARY:Ribbon Cutting: Brix Barbeque
DESCRIPTION:LET'S CELEBRATE!\n\n \n\nCome join us in celebrating the Ribbon Cutting for Brix Barbeque! This is a great event to make new connections\, network and of course\, congratulate the company on this special occasion.\nADDITIONAL:\n\n\n	Snacks will be served\n	Bar will be open to purchase drinks
X-ALT-DESC;FMTTYPE=text/html:<p>&nbsp\;</p>\n\n<h1><strong><span style="color:#FF0000\;">LET&#39\;S CELEBRATE!</span></strong></h1>\n\n<h1><span style="font-size:16px\;"><strong>&nbsp\;</strong></span></h1>\n\n<p>Come join us in celebrating the Ribbon Cutting&nbsp\;for <strong>Brix Barbeque</strong>!&nbsp\;This is a great event to make new connections\, network and of course\, congratulate the company&nbsp\;on this&nbsp\;special occasion.</p>\n<strong>ADDITIONAL:</strong>\n\n<ul>\n	<li>Snacks will be served</li>\n	<li>Bar will be open to purchase drinks</li>\n</ul>\n
LOCATION:Street parking is available on both sides of the building.
UID:e.1802.17599
SEQUENCE:3
DTSTAMP:20260423T162255Z
URL:https://business.fortworthchamber.com/events/details/ribbon-cutting-brix-barbeque-17599
END:VEVENT

END:VCALENDAR
