BEGIN:VCALENDAR
VERSION:2.0
PRODID:-//ChamberMaster//Event Calendar 2.0//EN
METHOD:PUBLISH
X-PUBLISHED-TTL:P3D
REFRESH-INTERVAL:P3D
CALSCALE:GREGORIAN
BEGIN:VEVENT
DTSTART:20230118T223000Z
DTEND:20230119T003000Z
X-MICROSOFT-CDO-ALLDAYEVENT:FALSE
SUMMARY:Ribbon Cutting: CenterWell Senior Primary Care
DESCRIPTION:LET'S CELEBRATE!\n\n \n\nCome join us to help celebrate the Ribbon Cutting for CenterWell Senior Primary Care in the FWC's West Area!  This is a great event to make new connections\, network and of course\, congratulate the company on this special occasion.\n\n\n\nADDITIONAL:\n\n\n	Appetizers\, Alcoholic beverages\, and non-alcoholic beverages will be served\n	Tours\n	Giveaways
X-ALT-DESC;FMTTYPE=text/html:<p>&nbsp\;</p>\n\n<h1><strong><span style="color:#FF0000\;">LET&#39\;S CELEBRATE!</span></strong></h1>\n\n<h1><span style="font-size:16px\;"><strong>&nbsp\;</strong></span></h1>\n\n<p>Come join us to help celebrate the Ribbon Cutting for <b>CenterWell Senior Primary Care</b>&nbsp\;in the FWC&#39\;s West&nbsp\;Area!&nbsp\; This is a great event to make new connections\, network and of course\, congratulate the company&nbsp\;on this&nbsp\;special occasion.<br />\n<br />\n<strong>ADDITIONAL:</strong></p>\n\n<ul>\n	<li>Appetizers\, Alcoholic beverages\, and non-alcoholic&nbsp\;beverages will be served</li>\n	<li>Tours</li>\n	<li>Giveaways</li>\n</ul>\n
LOCATION:Free parking in front of building
UID:e.1802.17146
SEQUENCE:3
DTSTAMP:20260424T014637Z
URL:https://business.fortworthchamber.com/events/details/ribbon-cutting-centerwell-senior-primary-care-01-18-2023-17146
END:VEVENT

END:VCALENDAR
