BEGIN:VCALENDAR
VERSION:2.0
PRODID:-//ChamberMaster//Event Calendar 2.0//EN
METHOD:PUBLISH
X-PUBLISHED-TTL:P3D
REFRESH-INTERVAL:P3D
CALSCALE:GREGORIAN
BEGIN:VEVENT
DTSTART:20260326T193000Z
DTEND:20260326T203000Z
X-MICROSOFT-CDO-ALLDAYEVENT:FALSE
SUMMARY:Ribbon Cutting: Cottages at Summer Creek
DESCRIPTION:LET'S CELEBRATE! \n\nCome join us in celebrating the Grand re-opening and Ribbon Cutting at Cottages at Summer Creek! This is a great event to make new connections\, network and of course\, congratulate the company on this special occasion.\nADDITIONAL:\n\n\n\nSnacks\n\nAlcoholic Beverages\n\nNon-Alcoholic Beverages
X-ALT-DESC;FMTTYPE=text/html:<div>&nbsp\;</div>\n\n<h1><strong><span style="color: rgb(255\, 0\, 0)\;">LET&#39\;S CELEBRATE!</span></strong><span style="font-size: 16px\;"><strong>&nbsp\;</strong></span></h1>\n\n<p>Come join us in celebrating the <!--StartFragment--><span data-olk-copy-source="MessageBody" style="color: rgb(85\, 85\, 85)\; padding-top: 3px\; padding-bottom: 20px\;">Grand re-opening</span><!--EndFragment-->&nbsp\;and Ribbon Cutting&nbsp\;at<strong>&nbsp\;</strong><!--StartFragment--><a href="https://www.cottagesatsummercreek.com/"><strong><span data-olk-copy-source="MessageBody" style="color: rgb(85\, 85\, 85)\; padding-top: 3px\; padding-bottom: 20px\;">Cottages at Summer Creek</span><!--EndFragment-->!</strong></a>&nbsp\;This is a great event to make new connections\, network and of course\, congratulate the company&nbsp\;on this&nbsp\;special occasion.</p>\n<strong>ADDITIONAL:</strong><br />\n<br />\n<span style="color: rgb(85\, 85\, 85)\; font-family: &quot\;Helvetica Neue&quot\;\, Helvetica\, Arial\, &quot\;Lucida Grande&quot\;\, sans-serif\; font-size: 14px\;">Snacks</span><br style="color: rgb(85\, 85\, 85)\; font-family: &quot\;Helvetica Neue&quot\;\, Helvetica\, Arial\, &quot\;Lucida Grande&quot\;\, sans-serif\; font-size: 14px\;" />\n<span style="color: rgb(85\, 85\, 85)\; font-family: &quot\;Helvetica Neue&quot\;\, Helvetica\, Arial\, &quot\;Lucida Grande&quot\;\, sans-serif\; font-size: 14px\;">Alcoholic Beverages</span><br style="color: rgb(85\, 85\, 85)\; font-family: &quot\;Helvetica Neue&quot\;\, Helvetica\, Arial\, &quot\;Lucida Grande&quot\;\, sans-serif\; font-size: 14px\;" />\n<span style="color: rgb(85\, 85\, 85)\; font-family: &quot\;Helvetica Neue&quot\;\, Helvetica\, Arial\, &quot\;Lucida Grande&quot\;\, sans-serif\; font-size: 14px\;">Non-Alcoholic Beverages</span><br />\n<br />\n<br />\n<br />\n&nbsp\;
LOCATION:Parking is available in front of the leasing office or in any uncovered spaces inside the gate.
UID:e.1802.23297
SEQUENCE:3
DTSTAMP:20260423T030859Z
URL:https://business.fortworthchamber.com/events/details/ribbon-cutting-cottages-at-summer-creek-23297
END:VEVENT

END:VCALENDAR
