BEGIN:VCALENDAR
VERSION:2.0
PRODID:-//ChamberMaster//Event Calendar 2.0//EN
METHOD:PUBLISH
X-PUBLISHED-TTL:P3D
REFRESH-INTERVAL:P3D
CALSCALE:GREGORIAN
BEGIN:VEVENT
DTSTART:20230421T160000Z
DTEND:20230421T170000Z
X-MICROSOFT-CDO-ALLDAYEVENT:FALSE
SUMMARY:Ribbon Cutting: Fonroche Lighting
DESCRIPTION:LET'S CELEBRATE!\n\n \n\nCome join us in celebrating the Ribbon Cutting for Fonroche Lighting! This is a great event to make new connections\, network and of course\, congratulate the company on this special occasion.
X-ALT-DESC;FMTTYPE=text/html:<p>&nbsp\;</p>\n\n<h1><strong><span style="color:#FF0000\;">LET&#39\;S CELEBRATE!</span></strong></h1>\n\n<h1><span style="font-size:16px\;"><strong>&nbsp\;</strong></span></h1>\n\n<p><span style="font-size:14px\;"><span style="font-family:arial\;">Come join us in celebrating the Ribbon Cutting&nbsp\;for <b>Fonroche Lighting</b>!&nbsp\;This is a great event to make new connections\, network and of course\, congratulate the company&nbsp\;on this&nbsp\;special occasion.</span></span></p>\n
LOCATION:Ample parking in parking lot onsite and on Vesta Farley. We will have parking signs day of event.
UID:e.1802.17543
SEQUENCE:3
DTSTAMP:20260423T204920Z
URL:https://business.fortworthchamber.com/events/details/ribbon-cutting-fonroche-lighting-17543
END:VEVENT

END:VCALENDAR
