BEGIN:VCALENDAR
VERSION:2.0
PRODID:-//ChamberMaster//Event Calendar 2.0//EN
METHOD:PUBLISH
X-PUBLISHED-TTL:P3D
REFRESH-INTERVAL:P3D
CALSCALE:GREGORIAN
BEGIN:VEVENT
DTSTART:20231110T170000Z
DTEND:20231110T180000Z
X-MICROSOFT-CDO-ALLDAYEVENT:FALSE
SUMMARY:Ribbon cutting for the opening One Hour Heating and Air of South Fort Worth
DESCRIPTION:Please join us for the ribbon cutting event celebrating the opening of our newest franchise of One Hour Heating and Air of South Fort Worth!
X-ALT-DESC;FMTTYPE=text/html:Please join us for the ribbon cutting event celebrating the opening of our newest franchise of One Hour Heating and Air of South Fort Worth!
LOCATION:5136 Mosson Rd. Suite A Fort Worth TX. 76119
UID:e.1802.18604
SEQUENCE:3
DTSTAMP:20260423T122347Z
URL:https://business.fortworthchamber.com/events/details/ribbon-cutting-for-one-hour-heating-and-air-of-south-fort-worth-18604
END:VEVENT

END:VCALENDAR
