BEGIN:VCALENDAR
VERSION:2.0
PRODID:-//ChamberMaster//Event Calendar 2.0//EN
METHOD:PUBLISH
X-PUBLISHED-TTL:P3D
REFRESH-INTERVAL:P3D
CALSCALE:GREGORIAN
BEGIN:VEVENT
DTSTART:20230112T180000Z
DTEND:20230112T190000Z
X-MICROSOFT-CDO-ALLDAYEVENT:FALSE
SUMMARY:Ribbon Cutting: Fort Worth Fit Body Boot Camp
DESCRIPTION:LET'S CELEBRATE!\n\n \n\nCome join us to help celebrate the Ribbon Cutting for Fort Worth Fit Body Boot Camp in the FWC's West Area!  This is a great event to make new connections\, network and of course\, congratulate the company on this special occasion.\nADDITIONAL:\n\n\n	Snacks\, and non-alcoholic beverages will be served
X-ALT-DESC;FMTTYPE=text/html:<p>&nbsp\;</p>\n\n<h1><strong><span style="color:#FF0000\;">LET&#39\;S CELEBRATE!</span></strong></h1>\n\n<h1><span style="font-size:16px\;"><strong>&nbsp\;</strong></span></h1>\n\n<p>Come join us to help celebrate the Ribbon Cutting for <b>Fort Worth Fit Body&nbsp\;Boot Camp</b>&nbsp\;in the FWC&#39\;s West Area!&nbsp\; This is a great event to make new connections\, network and of course\, congratulate the company&nbsp\;on this&nbsp\;special occasion.</p>\n<strong>ADDITIONAL:</strong>\n\n<ul>\n	<li>Snacks\,&nbsp\;and non-alcoholic&nbsp\;beverages will be served</li>\n</ul>\n
LOCATION:6489 Southwest Blvd Benbrook\, Tx 76132 Parking lot available
UID:e.1802.17155
SEQUENCE:3
DTSTAMP:20260424T003655Z
URL:https://business.fortworthchamber.com/events/details/ribbon-cutting-fort-worth-fit-body-boot-camp-17155
END:VEVENT

END:VCALENDAR
