BEGIN:VCALENDAR
VERSION:2.0
PRODID:-//ChamberMaster//Event Calendar 2.0//EN
METHOD:PUBLISH
X-PUBLISHED-TTL:P3D
REFRESH-INTERVAL:P3D
CALSCALE:GREGORIAN
BEGIN:VEVENT
DTSTART:20241002T163000Z
DTEND:20241002T173000Z
X-MICROSOFT-CDO-ALLDAYEVENT:FALSE
SUMMARY:Ribbon Cutting: Girls Inc. of Tarrant County
DESCRIPTION:LET'S CELEBRATE! \n\nCome join us in celebrating the Ribbon Cutting for Girls Inc. of Tarrant County! This is a great event to make new connections\, network and of course\, congratulate the company on this special occasion.\nADDITIONAL:\n\n\n	Snacks\, appetizers and non- alcoholic beverages will be available\n	STEM equipment demos\, tours\, and networking
X-ALT-DESC;FMTTYPE=text/html:<div>&nbsp\;</div>\n\n<h1><strong><span style="color: rgb(255\, 0\, 0)\;">LET&#39\;S CELEBRATE!</span></strong><span style="font-size: 16px\;"><strong>&nbsp\;</strong></span></h1>\n\n<p>Come join us in celebrating the Ribbon Cutting&nbsp\;for <strong>Girls Inc. of Tarrant County!</strong>&nbsp\;This is a great event to make new connections\, network and of course\, congratulate the company&nbsp\;on this&nbsp\;special occasion.</p>\n<strong>ADDITIONAL:</strong>\n\n<ul>\n	<li>Snacks\, appetizers&nbsp\;and non- alcoholic beverages&nbsp\;will be available</li>\n	<li>STEM equipment demos\, tours\, and networking</li>\n</ul>\n
LOCATION:Parking is available in the lot
UID:e.1802.19552
SEQUENCE:3
DTSTAMP:20260421T083622Z
URL:https://business.fortworthchamber.com/events/details/ribbon-cutting-girls-inc-of-tarrant-county-19552
END:VEVENT

END:VCALENDAR
