BEGIN:VCALENDAR
VERSION:2.0
PRODID:-//ChamberMaster//Event Calendar 2.0//EN
METHOD:PUBLISH
X-PUBLISHED-TTL:P3D
REFRESH-INTERVAL:P3D
CALSCALE:GREGORIAN
BEGIN:VEVENT
DTSTART:20230504T143000Z
DTEND:20230504T163000Z
X-MICROSOFT-CDO-ALLDAYEVENT:FALSE
SUMMARY:Ribbon Cutting: Goodwill North Central Texas Headquarters
DESCRIPTION:Please join us to celebrate our new corporate headquarters and career center. Ribbon Cutting will include open house\, tours\, remarks\, food trucks and more. Please RSVP to CommunityEngagement@GoodwillNCT.org
X-ALT-DESC;FMTTYPE=text/html:Please join us to celebrate our new corporate headquarters and career center. Ribbon Cutting will include open house\, tours\, remarks\, food trucks and more. Please RSVP to CommunityEngagement@GoodwillNCT.org
LOCATION:4200 Airport Freeway\, Fort Worth\, TX 76117 Parking is plentiful on our lot both front and back. Additionally cars can par on the street behind the building.
UID:e.1802.17550
SEQUENCE:3
DTSTAMP:20260423T192138Z
URL:https://business.fortworthchamber.com/events/details/ribbon-cutting-goodwill-north-central-texas-headquarters-17550
END:VEVENT

END:VCALENDAR
