BEGIN:VCALENDAR
VERSION:2.0
PRODID:-//ChamberMaster//Event Calendar 2.0//EN
METHOD:PUBLISH
X-PUBLISHED-TTL:P3D
REFRESH-INTERVAL:P3D
CALSCALE:GREGORIAN
BEGIN:VEVENT
DTSTART:20231012T200000Z
DTEND:20231012T210000Z
X-MICROSOFT-CDO-ALLDAYEVENT:FALSE
SUMMARY:Ribbon Cutting: Griffith Davison\, P.C
DESCRIPTION:LET'S CELEBRATE! \n\nCome join us in celebrating the Ribbon Cutting for Griffith Davison\,P.C! This is a great event to make new connections\, network and of course\, congratulate the company on this special occasion.\nADDITIONAL:\n\n\n	 Appetizers\, alcoholic  and non- alcoholic beverages will be available
X-ALT-DESC;FMTTYPE=text/html:<p>&nbsp\;</p>\n\n<h1><strong><span style="color:#FF0000\;">LET&#39\;S CELEBRATE!</span></strong><span style="font-size:16px\;"><strong>&nbsp\;</strong></span></h1>\n\n<p>Come join us in celebrating the Ribbon Cutting&nbsp\;for <strong>Griffith Davison\,P.C</strong>!&nbsp\;This is a great event to make new connections\, network and of course\, congratulate the company&nbsp\;on this&nbsp\;special occasion.</p>\n<strong>ADDITIONAL:</strong>\n\n<ul>\n	<li>&nbsp\;Appetizers\, alcoholic&nbsp\;&nbsp\;and non- alcoholic beverages will be available</li>\n</ul>\n
LOCATION:Parking is available on both sides of the building
UID:e.1802.18514
SEQUENCE:3
DTSTAMP:20260423T134143Z
URL:https://business.fortworthchamber.com/events/details/ribbon-cutting-griffith-davison-p-c-18514
END:VEVENT

END:VCALENDAR
