BEGIN:VCALENDAR
VERSION:2.0
PRODID:-//ChamberMaster//Event Calendar 2.0//EN
METHOD:PUBLISH
X-PUBLISHED-TTL:P3D
REFRESH-INTERVAL:P3D
CALSCALE:GREGORIAN
BEGIN:VEVENT
DTSTART:20230428T180000Z
DTEND:20230428T190000Z
X-MICROSOFT-CDO-ALLDAYEVENT:FALSE
SUMMARY:Ribbon Cutting: Home Zone Furniture
DESCRIPTION:LET'S CELEBRATE!\n\n \n\nCome join us in celebrating the Ribbon Cutting for Home Zone Furniture! This is a great event to make new connections\, network and of course\, congratulate the company on this special occasion.\nADDITIONAL:\n\n\n	Appetizers and non- alcoholic beverages will be served
X-ALT-DESC;FMTTYPE=text/html:<p>&nbsp\;</p>\n\n<h1><strong><span style="color:#FF0000\;">LET&#39\;S CELEBRATE!</span></strong></h1>\n\n<h1><span style="font-size:16px\;"><strong>&nbsp\;</strong></span></h1>\n\n<p><span style="font-size:14px\;">Come join us in celebrating the Ribbon Cutting&nbsp\;for <strong>Home Zone Furniture</strong>!&nbsp\;This is a great event to make new connections\, network and of course\, congratulate the company&nbsp\;on this&nbsp\;special occasion.</span></p>\n<span style="font-size:14px\;"><strong>ADDITIONAL:</strong></span>\n\n<ul>\n	<li><span style="font-size:14px\;">Appetizers and non- alcoholic beverages will be served&nbsp\;</span></li>\n</ul>\n
LOCATION:Free parking for attendees
UID:e.1802.17527
SEQUENCE:3
DTSTAMP:20260423T205306Z
URL:https://business.fortworthchamber.com/events/details/ribbon-cutting-home-zone-furniture-17527
END:VEVENT

END:VCALENDAR
