BEGIN:VCALENDAR
VERSION:2.0
PRODID:-//ChamberMaster//Event Calendar 2.0//EN
METHOD:PUBLISH
X-PUBLISHED-TTL:P3D
REFRESH-INTERVAL:P3D
CALSCALE:GREGORIAN
BEGIN:VEVENT
DTSTART:20220712T150000Z
DTEND:20220712T160000Z
X-MICROSOFT-CDO-ALLDAYEVENT:FALSE
SUMMARY:Ribbon Cutting: Integrity Land Title LLC
DESCRIPTION:LET'S CELEBRATE!\n\n \n\nCome join us to help celebrate the Grand Opening for Integrity Land Title  LLC in the Chamber's South  Area!  This is a great event to make new connections\, network and of course\, congratulate the company on this special occasion.\n\n\n\nADDITIONAL:\n\n\n	Bubbly and Bread will be served ( Mimosa Bar & Muffins)\n	Drawing and Giveaways!
X-ALT-DESC;FMTTYPE=text/html:<p><span style="font-size:16px\;"><strong><span style="font-size:20px\;"><span style="color:#FF0000\;">LET&#39\;S CELEBRATE!</span></span><br />\n<span style="font-size:14px\;">&nbsp\;</span></strong></span><br />\n<span style="font-size:14px\;">Come join us to help celebrate the Grand Opening for <b>Integrity Land Title&nbsp\;&nbsp\;LLC</b>&nbsp\;in the Chamber&#39\;s South&nbsp\;&nbsp\;Area!&nbsp\; This is a great event to make new connections\, network and of course\, congratulate the company&nbsp\;on this&nbsp\;special occasion.<br />\n<br />\n<strong><span style="font-size:16px\;">ADDITIONAL:</span></strong></span></p>\n\n<ul>\n	<li><span style="font-size:14px\;"><span style="font-family:calibri\,sans-serif\;">Bubbly and Bread</span>&nbsp\;will be served ( Mimosa Bar &amp\; Muffins)</span></li>\n	<li><span style="font-size:14px\;">Drawing and Giveaways!</span></li>\n</ul>\n\n<p><br />\n<br />\n<br />\n<br />\n<br />\n<br />\n<br />\n<br />\n&nbsp\;</p>\n
LOCATION:-Open Parking
UID:e.1802.16443
SEQUENCE:3
DTSTAMP:20260424T081125Z
URL:https://business.fortworthchamber.com/events/details/ribbon-cutting-integrity-land-title-llc-16443
END:VEVENT

END:VCALENDAR
