BEGIN:VCALENDAR
VERSION:2.0
PRODID:-//ChamberMaster//Event Calendar 2.0//EN
METHOD:PUBLISH
X-PUBLISHED-TTL:P3D
REFRESH-INTERVAL:P3D
CALSCALE:GREGORIAN
BEGIN:VEVENT
DTSTART:20260415T200000Z
DTEND:20260415T210000Z
X-MICROSOFT-CDO-ALLDAYEVENT:FALSE
SUMMARY:Ribbon Cutting: MacroAir Fans
DESCRIPTION:LET'S CELEBRATE! \n\nCome join us in celebrating the ribbon-cutting for MacroAir Fans\, a new local business! This is a great event to make new connections\, network and of course\, congratulate the company on this special occasion.\nADDITIONAL:\n\n\n\nSnacks\n\nAppetizers\n\nAlcoholic Beverages\n\nNon-Alcoholic Beverages\n\nLive Music\n\nPhotobooth\n\nSwag/promotional items\n\nTours
X-ALT-DESC;FMTTYPE=text/html:<h1><strong><span style="color: rgb(255\, 0\, 0)\;">LET&#39\;S CELEBRATE!</span></strong><span style="font-size: 16px\;"><strong>&nbsp\;</strong></span></h1>\n\n<p data-end="247" data-start="123">Come join us in celebrating the ribbon-cutting for MacroAir Fans\, a new local business!&nbsp\;This is a great event to make new connections\, network and of course\, congratulate the company&nbsp\;on this&nbsp\;special occasion.</p>\n<strong>ADDITIONAL:</strong><br />\n<br />\n<span font-size:="" helvetica="" lucida="" style="color: rgb(85\, 85\, 85)\; font-family: ">Snacks</span><br font-size:="" helvetica="" lucida="" style="color: rgb(85\, 85\, 85)\; font-family: " />\n<span font-size:="" helvetica="" lucida="" style="color: rgb(85\, 85\, 85)\; font-family: ">Appetizers</span><br font-size:="" helvetica="" lucida="" style="color: rgb(85\, 85\, 85)\; font-family: " />\n<span font-size:="" helvetica="" lucida="" style="color: rgb(85\, 85\, 85)\; font-family: ">Alcoholic Beverages</span><br font-size:="" helvetica="" lucida="" style="color: rgb(85\, 85\, 85)\; font-family: " />\n<span font-size:="" helvetica="" lucida="" style="color: rgb(85\, 85\, 85)\; font-family: ">Non-Alcoholic Beverages<br />\nLive Music</span><br />\n<span data-olk-copy-source="MessageBody" style="color: rgb(85\, 85\, 85)\; padding-top: 3px\; padding-bottom: 20px\;">Photobooth<br />\nSwag/promotional items<br />\nTours</span><br />\n&nbsp\;
LOCATION:There is parking on site.
UID:e.1802.23294
SEQUENCE:3
DTSTAMP:20260423T045410Z
URL:https://business.fortworthchamber.com/events/details/ribbon-cutting-macroair-fans-23294
END:VEVENT

END:VCALENDAR
