BEGIN:VCALENDAR
VERSION:2.0
PRODID:-//ChamberMaster//Event Calendar 2.0//EN
METHOD:PUBLISH
X-PUBLISHED-TTL:P3D
REFRESH-INTERVAL:P3D
CALSCALE:GREGORIAN
BEGIN:VEVENT
DTSTART:20231110T160000Z
DTEND:20231110T170000Z
X-MICROSOFT-CDO-ALLDAYEVENT:FALSE
SUMMARY:Ribbon Cutting: One Hour Heating and Air of South Fort Worth
DESCRIPTION:LET'S CELEBRATE! \n\nCome join us in celebrating the Ribbon Cutting for One Hour Heating and Air of South Fort Worth! This is a great event to make new connections\, network and of course\, congratulate the company on this special occasion.\nADDITIONAL:\n\n\n	Snacks and non- alcoholic beverages will be available
X-ALT-DESC;FMTTYPE=text/html:<p>&nbsp\;</p>\n\n<h1><strong><span style="color:#FF0000\;">LET&#39\;S CELEBRATE!</span></strong><span style="font-size:16px\;"><strong>&nbsp\;</strong></span></h1>\n\n<p>Come join us in celebrating the Ribbon Cutting&nbsp\;for <b>One Hour Heating and Air of South Fort Worth!</b>&nbsp\;This is a great event to make new connections\, network and of course\, congratulate the company&nbsp\;on this&nbsp\;special occasion.</p>\n<strong>ADDITIONAL:</strong>\n\n<ul>\n	<li>Snacks and non- alcoholic beverages will be available</li>\n</ul>\n
LOCATION:Street parking is available for this event
UID:e.1802.18609
SEQUENCE:3
DTSTAMP:20260423T121613Z
URL:https://business.fortworthchamber.com/events/details/ribbon-cutting-one-hour-heating-and-air-of-south-fort-worth-18609
END:VEVENT

END:VCALENDAR
