BEGIN:VCALENDAR
VERSION:2.0
PRODID:-//ChamberMaster//Event Calendar 2.0//EN
METHOD:PUBLISH
X-PUBLISHED-TTL:P3D
REFRESH-INTERVAL:P3D
CALSCALE:GREGORIAN
BEGIN:VEVENT
DTSTART:20210812T200000Z
DTEND:20210812T230000Z
X-MICROSOFT-CDO-ALLDAYEVENT:FALSE
SUMMARY:Ribbon Cutting: Overture River District
DESCRIPTION:Start the summer right with food\, drinks and finding your new home! We will be touring our community show room\, and enjoying delicious appetizers and beverages. Our ribbon cutting ceremony will be at 4pm. We can't wait to see you there and tell you more about the lifestyle you deserve!
X-ALT-DESC;FMTTYPE=text/html:<table align="center" border="0" cellpadding="0" cellspacing="0" class="content-table" style="border-collapse:collapse\; color:rgb(0\, 0\, 0)\; font-family:times new roman\; font-size:medium\; width:679.2px">\n	<tbody>\n		<tr>\n			<td><span style="font-size:16px"><span style="font-family:arial">Start the summer right with food\, drinks and finding your new home! We will be touring our community show room\, and enjoying delicious appetizers and beverages. Our ribbon cutting ceremony will be at 4pm. We can&#39\;t wait to see you there and tell you more about the lifestyle you deserve!</span></span></td>\n		</tr>\n	</tbody>\n</table>\n
LOCATION:Overture River District Show case office- 101 Nursery Lane Fort Worth\, Texas 76114
UID:e.1802.14418
SEQUENCE:3
DTSTAMP:20260425T014200Z
URL:https://business.fortworthchamber.com/events/details/ribbon-cutting-overture-river-district-14418
END:VEVENT

END:VCALENDAR
