BEGIN:VCALENDAR
VERSION:2.0
PRODID:-//ChamberMaster//Event Calendar 2.0//EN
METHOD:PUBLISH
X-PUBLISHED-TTL:P3D
REFRESH-INTERVAL:P3D
CALSCALE:GREGORIAN
BEGIN:VEVENT
DTSTART:20230819T190000Z
DTEND:20230819T210000Z
X-MICROSOFT-CDO-ALLDAYEVENT:FALSE
SUMMARY:Ribbon Cutting: Pathway Homes
DESCRIPTION:LET'S CELEBRATE! \n\nCome join us in celebrating the Ribbon Cutting for Pathway Homes! This is a great event to make new connections\, network and of course\, congratulate the company on this special occasion.\nADDITIONAL:\n\n\n	Snacks and non- alcoholic beverages will be available
X-ALT-DESC;FMTTYPE=text/html:<p>&nbsp\;</p>\n\n<h1><strong><span style="color:#FF0000\;">LET&#39\;S CELEBRATE!</span></strong><span style="font-size:16px\;"><strong>&nbsp\;</strong></span></h1>\n\n<p><span style="font-size:14px\;">Come jo<span style="font-family:arial\;">in us in celebrating the Ribbon Cutting&nbsp\;for <b>Pathway Homes!&nbsp\;</b>This is a great event to make new</span> connections\, network and of course\, congratulate the company&nbsp\;on this&nbsp\;special occasion.</span></p>\n<strong>ADDITIONAL:</strong>\n\n<ul>\n	<li>Snacks&nbsp\;and non- alcoholic beverages will be available</li>\n</ul>\n
LOCATION:There is plenty of street parking in front of homes in the community on Garysburg Ct and Fallston Drive
UID:e.1802.18395
SEQUENCE:3
DTSTAMP:20260423T162306Z
URL:https://business.fortworthchamber.com/events/details/ribbon-cutting-pathway-homes-18395
END:VEVENT

END:VCALENDAR
